BEGIN:VCALENDAR
VERSION:2.0
PRODID:-//Emmanuel - ECPv6.15.20//NONSGML v1.0//EN
CALSCALE:GREGORIAN
METHOD:PUBLISH
X-ORIGINAL-URL:https://emmanuelworship.org
X-WR-CALDESC:Events for Emmanuel
REFRESH-INTERVAL;VALUE=DURATION:PT1H
X-Robots-Tag:noindex
X-PUBLISHED-TTL:PT1H
BEGIN:VTIMEZONE
TZID:America/New_York
BEGIN:DAYLIGHT
TZOFFSETFROM:-0500
TZOFFSETTO:-0400
TZNAME:EDT
DTSTART:20230312T070000
END:DAYLIGHT
BEGIN:STANDARD
TZOFFSETFROM:-0400
TZOFFSETTO:-0500
TZNAME:EST
DTSTART:20231105T060000
END:STANDARD
BEGIN:DAYLIGHT
TZOFFSETFROM:-0500
TZOFFSETTO:-0400
TZNAME:EDT
DTSTART:20240310T070000
END:DAYLIGHT
BEGIN:STANDARD
TZOFFSETFROM:-0400
TZOFFSETTO:-0500
TZNAME:EST
DTSTART:20241103T060000
END:STANDARD
BEGIN:DAYLIGHT
TZOFFSETFROM:-0500
TZOFFSETTO:-0400
TZNAME:EDT
DTSTART:20250309T070000
END:DAYLIGHT
BEGIN:STANDARD
TZOFFSETFROM:-0400
TZOFFSETTO:-0500
TZNAME:EST
DTSTART:20251102T060000
END:STANDARD
END:VTIMEZONE
BEGIN:VEVENT
DTSTART;TZID=America/New_York:20240708T100000
DTEND;TZID=America/New_York:20240708T110000
DTSTAMP:20260423T200758
CREATED:20180123T212953Z
LAST-MODIFIED:20220911T161059Z
UID:10006284-1720432800-1720436400@emmanuelworship.org
SUMMARY:Monday Morning Bible Study
DESCRIPTION:
URL:https://emmanuelworship.org/event/bible-study/2024-07-08/
LOCATION:Emmanuel Church\, 231 Newton Street\, Keyser\, WV\, 26505\, United States
ATTACH;FMTTYPE=image/jpeg:https://emmanuelworship.org/wp-content/uploads/2018/01/bibleStudy.jpg
GEO:39.4335179;-78.9869938
X-APPLE-STRUCTURED-LOCATION;VALUE=URI;X-ADDRESS=Emmanuel Church 231 Newton Street Keyser WV 26505 United States;X-APPLE-RADIUS=500;X-TITLE=231 Newton Street:geo:-78.9869938,39.4335179
END:VEVENT
BEGIN:VEVENT
DTSTART;TZID=America/New_York:20240707T140000
DTEND;TZID=America/New_York:20240707T150000
DTSTAMP:20260423T200758
CREATED:20210906T215158Z
LAST-MODIFIED:20220912T002914Z
UID:10007683-1720360800-1720364400@emmanuelworship.org
SUMMARY:Pastor's Community Prayer
DESCRIPTION:1st and 3rd Sunday Evenings
URL:https://emmanuelworship.org/event/pastors-community-prayer/2024-07-07/
ATTACH;FMTTYPE=image/jpeg:https://emmanuelworship.org/wp-content/uploads/2021/09/pexels-shelagh-murphy-1666816.jpg
END:VEVENT
BEGIN:VEVENT
DTSTART;TZID=America/New_York:20240707T100000
DTEND;TZID=America/New_York:20240707T110000
DTSTAMP:20260423T200758
CREATED:20180124T210748Z
LAST-MODIFIED:20220911T161016Z
UID:10005592-1720346400-1720350000@emmanuelworship.org
SUMMARY:Sunday School
DESCRIPTION:Children of all ages
URL:https://emmanuelworship.org/event/sunday-school/2024-07-07/
LOCATION:Emmanuel Church\, 231 Newton Street\, Keyser\, WV\, 26505\, United States
CATEGORIES:Sunday School
ATTACH;FMTTYPE=image/jpeg:https://emmanuelworship.org/wp-content/uploads/2018/03/SundaySchl.jpg
GEO:39.4335179;-78.9869938
X-APPLE-STRUCTURED-LOCATION;VALUE=URI;X-ADDRESS=Emmanuel Church 231 Newton Street Keyser WV 26505 United States;X-APPLE-RADIUS=500;X-TITLE=231 Newton Street:geo:-78.9869938,39.4335179
END:VEVENT
BEGIN:VEVENT
DTSTART;TZID=America/New_York:20240707T100000
DTEND;TZID=America/New_York:20240707T110000
DTSTAMP:20260423T200758
CREATED:20180123T020058Z
LAST-MODIFIED:20220911T161913Z
UID:10007292-1720346400-1720350000@emmanuelworship.org
SUMMARY:Morning Worship
DESCRIPTION:
URL:https://emmanuelworship.org/event/sunday-evening-worship/2024-07-07/
LOCATION:Emmanuel Church\, 231 Newton Street\, Keyser\, WV\, 26505\, United States
CATEGORIES:Morning Worship
ATTACH;FMTTYPE=image/jpeg:https://emmanuelworship.org/wp-content/uploads/2018/01/Cross-Sunset.jpg
GEO:39.4335179;-78.9869938
X-APPLE-STRUCTURED-LOCATION;VALUE=URI;X-ADDRESS=Emmanuel Church 231 Newton Street Keyser WV 26505 United States;X-APPLE-RADIUS=500;X-TITLE=231 Newton Street:geo:-78.9869938,39.4335179
END:VEVENT
BEGIN:VEVENT
DTSTART;TZID=America/New_York:20240703T180000
DTEND;TZID=America/New_York:20240703T190000
DTSTAMP:20260423T200758
CREATED:20210906T213649Z
LAST-MODIFIED:20220911T161157Z
UID:10006598-1720029600-1720033200@emmanuelworship.org
SUMMARY:Evening Bible Study
DESCRIPTION:
URL:https://emmanuelworship.org/event/evening-bible-study/2024-07-03/
LOCATION:Emmanuel Church\, 231 Newton Street\, Keyser\, WV\, 26505\, United States
ATTACH;FMTTYPE=image/jpeg:https://emmanuelworship.org/wp-content/uploads/2018/01/bibleStudy.jpg
GEO:39.4335179;-78.9869938
X-APPLE-STRUCTURED-LOCATION;VALUE=URI;X-ADDRESS=Emmanuel Church 231 Newton Street Keyser WV 26505 United States;X-APPLE-RADIUS=500;X-TITLE=231 Newton Street:geo:-78.9869938,39.4335179
END:VEVENT
BEGIN:VEVENT
DTSTART;TZID=America/New_York:20240701T100000
DTEND;TZID=America/New_York:20240701T110000
DTSTAMP:20260423T200758
CREATED:20180123T212953Z
LAST-MODIFIED:20220911T161059Z
UID:10006283-1719828000-1719831600@emmanuelworship.org
SUMMARY:Monday Morning Bible Study
DESCRIPTION:
URL:https://emmanuelworship.org/event/bible-study/2024-07-01/
LOCATION:Emmanuel Church\, 231 Newton Street\, Keyser\, WV\, 26505\, United States
ATTACH;FMTTYPE=image/jpeg:https://emmanuelworship.org/wp-content/uploads/2018/01/bibleStudy.jpg
GEO:39.4335179;-78.9869938
X-APPLE-STRUCTURED-LOCATION;VALUE=URI;X-ADDRESS=Emmanuel Church 231 Newton Street Keyser WV 26505 United States;X-APPLE-RADIUS=500;X-TITLE=231 Newton Street:geo:-78.9869938,39.4335179
END:VEVENT
BEGIN:VEVENT
DTSTART;TZID=America/New_York:20240630T100000
DTEND;TZID=America/New_York:20240630T110000
DTSTAMP:20260423T200758
CREATED:20180124T210748Z
LAST-MODIFIED:20220911T161016Z
UID:10005591-1719741600-1719745200@emmanuelworship.org
SUMMARY:Sunday School
DESCRIPTION:Children of all ages
URL:https://emmanuelworship.org/event/sunday-school/2024-06-30/
LOCATION:Emmanuel Church\, 231 Newton Street\, Keyser\, WV\, 26505\, United States
CATEGORIES:Sunday School
ATTACH;FMTTYPE=image/jpeg:https://emmanuelworship.org/wp-content/uploads/2018/03/SundaySchl.jpg
GEO:39.4335179;-78.9869938
X-APPLE-STRUCTURED-LOCATION;VALUE=URI;X-ADDRESS=Emmanuel Church 231 Newton Street Keyser WV 26505 United States;X-APPLE-RADIUS=500;X-TITLE=231 Newton Street:geo:-78.9869938,39.4335179
END:VEVENT
BEGIN:VEVENT
DTSTART;TZID=America/New_York:20240630T100000
DTEND;TZID=America/New_York:20240630T110000
DTSTAMP:20260423T200758
CREATED:20180123T020058Z
LAST-MODIFIED:20220911T161913Z
UID:10007291-1719741600-1719745200@emmanuelworship.org
SUMMARY:Morning Worship
DESCRIPTION:
URL:https://emmanuelworship.org/event/sunday-evening-worship/2024-06-30/
LOCATION:Emmanuel Church\, 231 Newton Street\, Keyser\, WV\, 26505\, United States
CATEGORIES:Morning Worship
ATTACH;FMTTYPE=image/jpeg:https://emmanuelworship.org/wp-content/uploads/2018/01/Cross-Sunset.jpg
GEO:39.4335179;-78.9869938
X-APPLE-STRUCTURED-LOCATION;VALUE=URI;X-ADDRESS=Emmanuel Church 231 Newton Street Keyser WV 26505 United States;X-APPLE-RADIUS=500;X-TITLE=231 Newton Street:geo:-78.9869938,39.4335179
END:VEVENT
BEGIN:VEVENT
DTSTART;TZID=America/New_York:20240626T180000
DTEND;TZID=America/New_York:20240626T190000
DTSTAMP:20260423T200758
CREATED:20210906T213649Z
LAST-MODIFIED:20220911T161157Z
UID:10006597-1719424800-1719428400@emmanuelworship.org
SUMMARY:Evening Bible Study
DESCRIPTION:
URL:https://emmanuelworship.org/event/evening-bible-study/2024-06-26/
LOCATION:Emmanuel Church\, 231 Newton Street\, Keyser\, WV\, 26505\, United States
ATTACH;FMTTYPE=image/jpeg:https://emmanuelworship.org/wp-content/uploads/2018/01/bibleStudy.jpg
GEO:39.4335179;-78.9869938
X-APPLE-STRUCTURED-LOCATION;VALUE=URI;X-ADDRESS=Emmanuel Church 231 Newton Street Keyser WV 26505 United States;X-APPLE-RADIUS=500;X-TITLE=231 Newton Street:geo:-78.9869938,39.4335179
END:VEVENT
BEGIN:VEVENT
DTSTART;TZID=America/New_York:20240624T100000
DTEND;TZID=America/New_York:20240624T110000
DTSTAMP:20260423T200758
CREATED:20180123T212953Z
LAST-MODIFIED:20220911T161059Z
UID:10006282-1719223200-1719226800@emmanuelworship.org
SUMMARY:Monday Morning Bible Study
DESCRIPTION:
URL:https://emmanuelworship.org/event/bible-study/2024-06-24/
LOCATION:Emmanuel Church\, 231 Newton Street\, Keyser\, WV\, 26505\, United States
ATTACH;FMTTYPE=image/jpeg:https://emmanuelworship.org/wp-content/uploads/2018/01/bibleStudy.jpg
GEO:39.4335179;-78.9869938
X-APPLE-STRUCTURED-LOCATION;VALUE=URI;X-ADDRESS=Emmanuel Church 231 Newton Street Keyser WV 26505 United States;X-APPLE-RADIUS=500;X-TITLE=231 Newton Street:geo:-78.9869938,39.4335179
END:VEVENT
BEGIN:VEVENT
DTSTART;TZID=America/New_York:20240623T100000
DTEND;TZID=America/New_York:20240623T110000
DTSTAMP:20260423T200758
CREATED:20180124T210748Z
LAST-MODIFIED:20220911T161016Z
UID:10005590-1719136800-1719140400@emmanuelworship.org
SUMMARY:Sunday School
DESCRIPTION:Children of all ages
URL:https://emmanuelworship.org/event/sunday-school/2024-06-23/
LOCATION:Emmanuel Church\, 231 Newton Street\, Keyser\, WV\, 26505\, United States
CATEGORIES:Sunday School
ATTACH;FMTTYPE=image/jpeg:https://emmanuelworship.org/wp-content/uploads/2018/03/SundaySchl.jpg
GEO:39.4335179;-78.9869938
X-APPLE-STRUCTURED-LOCATION;VALUE=URI;X-ADDRESS=Emmanuel Church 231 Newton Street Keyser WV 26505 United States;X-APPLE-RADIUS=500;X-TITLE=231 Newton Street:geo:-78.9869938,39.4335179
END:VEVENT
BEGIN:VEVENT
DTSTART;TZID=America/New_York:20240623T100000
DTEND;TZID=America/New_York:20240623T110000
DTSTAMP:20260423T200758
CREATED:20180123T020058Z
LAST-MODIFIED:20220911T161913Z
UID:10007290-1719136800-1719140400@emmanuelworship.org
SUMMARY:Morning Worship
DESCRIPTION:
URL:https://emmanuelworship.org/event/sunday-evening-worship/2024-06-23/
LOCATION:Emmanuel Church\, 231 Newton Street\, Keyser\, WV\, 26505\, United States
CATEGORIES:Morning Worship
ATTACH;FMTTYPE=image/jpeg:https://emmanuelworship.org/wp-content/uploads/2018/01/Cross-Sunset.jpg
GEO:39.4335179;-78.9869938
X-APPLE-STRUCTURED-LOCATION;VALUE=URI;X-ADDRESS=Emmanuel Church 231 Newton Street Keyser WV 26505 United States;X-APPLE-RADIUS=500;X-TITLE=231 Newton Street:geo:-78.9869938,39.4335179
END:VEVENT
BEGIN:VEVENT
DTSTART;TZID=America/New_York:20240619T180000
DTEND;TZID=America/New_York:20240619T190000
DTSTAMP:20260423T200758
CREATED:20210906T213649Z
LAST-MODIFIED:20220911T161157Z
UID:10006596-1718820000-1718823600@emmanuelworship.org
SUMMARY:Evening Bible Study
DESCRIPTION:
URL:https://emmanuelworship.org/event/evening-bible-study/2024-06-19/
LOCATION:Emmanuel Church\, 231 Newton Street\, Keyser\, WV\, 26505\, United States
ATTACH;FMTTYPE=image/jpeg:https://emmanuelworship.org/wp-content/uploads/2018/01/bibleStudy.jpg
GEO:39.4335179;-78.9869938
X-APPLE-STRUCTURED-LOCATION;VALUE=URI;X-ADDRESS=Emmanuel Church 231 Newton Street Keyser WV 26505 United States;X-APPLE-RADIUS=500;X-TITLE=231 Newton Street:geo:-78.9869938,39.4335179
END:VEVENT
BEGIN:VEVENT
DTSTART;TZID=America/New_York:20240617T100000
DTEND;TZID=America/New_York:20240617T110000
DTSTAMP:20260423T200758
CREATED:20180123T212953Z
LAST-MODIFIED:20220911T161059Z
UID:10006281-1718618400-1718622000@emmanuelworship.org
SUMMARY:Monday Morning Bible Study
DESCRIPTION:
URL:https://emmanuelworship.org/event/bible-study/2024-06-17/
LOCATION:Emmanuel Church\, 231 Newton Street\, Keyser\, WV\, 26505\, United States
ATTACH;FMTTYPE=image/jpeg:https://emmanuelworship.org/wp-content/uploads/2018/01/bibleStudy.jpg
GEO:39.4335179;-78.9869938
X-APPLE-STRUCTURED-LOCATION;VALUE=URI;X-ADDRESS=Emmanuel Church 231 Newton Street Keyser WV 26505 United States;X-APPLE-RADIUS=500;X-TITLE=231 Newton Street:geo:-78.9869938,39.4335179
END:VEVENT
BEGIN:VEVENT
DTSTART;TZID=America/New_York:20240616T140000
DTEND;TZID=America/New_York:20240616T150000
DTSTAMP:20260423T200758
CREATED:20210906T215201Z
LAST-MODIFIED:20220912T003031Z
UID:10007719-1718546400-1718550000@emmanuelworship.org
SUMMARY:Pastor's Community Prayer
DESCRIPTION:1st and 3rd Sunday Evenings
URL:https://emmanuelworship.org/event/pastors-community-prayer-2/2024-06-16/
ATTACH;FMTTYPE=image/jpeg:https://emmanuelworship.org/wp-content/uploads/2021/09/pexels-shelagh-murphy-1666816.jpg
END:VEVENT
BEGIN:VEVENT
DTSTART;TZID=America/New_York:20240616T100000
DTEND;TZID=America/New_York:20240616T110000
DTSTAMP:20260423T200758
CREATED:20180124T210748Z
LAST-MODIFIED:20220911T161016Z
UID:10005589-1718532000-1718535600@emmanuelworship.org
SUMMARY:Sunday School
DESCRIPTION:Children of all ages
URL:https://emmanuelworship.org/event/sunday-school/2024-06-16/
LOCATION:Emmanuel Church\, 231 Newton Street\, Keyser\, WV\, 26505\, United States
CATEGORIES:Sunday School
ATTACH;FMTTYPE=image/jpeg:https://emmanuelworship.org/wp-content/uploads/2018/03/SundaySchl.jpg
GEO:39.4335179;-78.9869938
X-APPLE-STRUCTURED-LOCATION;VALUE=URI;X-ADDRESS=Emmanuel Church 231 Newton Street Keyser WV 26505 United States;X-APPLE-RADIUS=500;X-TITLE=231 Newton Street:geo:-78.9869938,39.4335179
END:VEVENT
BEGIN:VEVENT
DTSTART;TZID=America/New_York:20240616T100000
DTEND;TZID=America/New_York:20240616T110000
DTSTAMP:20260423T200758
CREATED:20180123T020058Z
LAST-MODIFIED:20220911T161913Z
UID:10007289-1718532000-1718535600@emmanuelworship.org
SUMMARY:Morning Worship
DESCRIPTION:
URL:https://emmanuelworship.org/event/sunday-evening-worship/2024-06-16/
LOCATION:Emmanuel Church\, 231 Newton Street\, Keyser\, WV\, 26505\, United States
CATEGORIES:Morning Worship
ATTACH;FMTTYPE=image/jpeg:https://emmanuelworship.org/wp-content/uploads/2018/01/Cross-Sunset.jpg
GEO:39.4335179;-78.9869938
X-APPLE-STRUCTURED-LOCATION;VALUE=URI;X-ADDRESS=Emmanuel Church 231 Newton Street Keyser WV 26505 United States;X-APPLE-RADIUS=500;X-TITLE=231 Newton Street:geo:-78.9869938,39.4335179
END:VEVENT
BEGIN:VEVENT
DTSTART;TZID=America/New_York:20240612T180000
DTEND;TZID=America/New_York:20240612T190000
DTSTAMP:20260423T200758
CREATED:20210906T213649Z
LAST-MODIFIED:20220911T161157Z
UID:10006595-1718215200-1718218800@emmanuelworship.org
SUMMARY:Evening Bible Study
DESCRIPTION:
URL:https://emmanuelworship.org/event/evening-bible-study/2024-06-12/
LOCATION:Emmanuel Church\, 231 Newton Street\, Keyser\, WV\, 26505\, United States
ATTACH;FMTTYPE=image/jpeg:https://emmanuelworship.org/wp-content/uploads/2018/01/bibleStudy.jpg
GEO:39.4335179;-78.9869938
X-APPLE-STRUCTURED-LOCATION;VALUE=URI;X-ADDRESS=Emmanuel Church 231 Newton Street Keyser WV 26505 United States;X-APPLE-RADIUS=500;X-TITLE=231 Newton Street:geo:-78.9869938,39.4335179
END:VEVENT
BEGIN:VEVENT
DTSTART;TZID=America/New_York:20240610T100000
DTEND;TZID=America/New_York:20240610T110000
DTSTAMP:20260423T200758
CREATED:20180123T212953Z
LAST-MODIFIED:20220911T161059Z
UID:10006280-1718013600-1718017200@emmanuelworship.org
SUMMARY:Monday Morning Bible Study
DESCRIPTION:
URL:https://emmanuelworship.org/event/bible-study/2024-06-10/
LOCATION:Emmanuel Church\, 231 Newton Street\, Keyser\, WV\, 26505\, United States
ATTACH;FMTTYPE=image/jpeg:https://emmanuelworship.org/wp-content/uploads/2018/01/bibleStudy.jpg
GEO:39.4335179;-78.9869938
X-APPLE-STRUCTURED-LOCATION;VALUE=URI;X-ADDRESS=Emmanuel Church 231 Newton Street Keyser WV 26505 United States;X-APPLE-RADIUS=500;X-TITLE=231 Newton Street:geo:-78.9869938,39.4335179
END:VEVENT
BEGIN:VEVENT
DTSTART;TZID=America/New_York:20240609T100000
DTEND;TZID=America/New_York:20240609T110000
DTSTAMP:20260423T200758
CREATED:20180124T210748Z
LAST-MODIFIED:20220911T161016Z
UID:10005588-1717927200-1717930800@emmanuelworship.org
SUMMARY:Sunday School
DESCRIPTION:Children of all ages
URL:https://emmanuelworship.org/event/sunday-school/2024-06-09/
LOCATION:Emmanuel Church\, 231 Newton Street\, Keyser\, WV\, 26505\, United States
CATEGORIES:Sunday School
ATTACH;FMTTYPE=image/jpeg:https://emmanuelworship.org/wp-content/uploads/2018/03/SundaySchl.jpg
GEO:39.4335179;-78.9869938
X-APPLE-STRUCTURED-LOCATION;VALUE=URI;X-ADDRESS=Emmanuel Church 231 Newton Street Keyser WV 26505 United States;X-APPLE-RADIUS=500;X-TITLE=231 Newton Street:geo:-78.9869938,39.4335179
END:VEVENT
BEGIN:VEVENT
DTSTART;TZID=America/New_York:20240609T100000
DTEND;TZID=America/New_York:20240609T110000
DTSTAMP:20260423T200758
CREATED:20180123T020058Z
LAST-MODIFIED:20220911T161913Z
UID:10007288-1717927200-1717930800@emmanuelworship.org
SUMMARY:Morning Worship
DESCRIPTION:
URL:https://emmanuelworship.org/event/sunday-evening-worship/2024-06-09/
LOCATION:Emmanuel Church\, 231 Newton Street\, Keyser\, WV\, 26505\, United States
CATEGORIES:Morning Worship
ATTACH;FMTTYPE=image/jpeg:https://emmanuelworship.org/wp-content/uploads/2018/01/Cross-Sunset.jpg
GEO:39.4335179;-78.9869938
X-APPLE-STRUCTURED-LOCATION;VALUE=URI;X-ADDRESS=Emmanuel Church 231 Newton Street Keyser WV 26505 United States;X-APPLE-RADIUS=500;X-TITLE=231 Newton Street:geo:-78.9869938,39.4335179
END:VEVENT
BEGIN:VEVENT
DTSTART;TZID=America/New_York:20240605T180000
DTEND;TZID=America/New_York:20240605T190000
DTSTAMP:20260423T200759
CREATED:20210906T213649Z
LAST-MODIFIED:20220911T161157Z
UID:10006594-1717610400-1717614000@emmanuelworship.org
SUMMARY:Evening Bible Study
DESCRIPTION:
URL:https://emmanuelworship.org/event/evening-bible-study/2024-06-05/
LOCATION:Emmanuel Church\, 231 Newton Street\, Keyser\, WV\, 26505\, United States
ATTACH;FMTTYPE=image/jpeg:https://emmanuelworship.org/wp-content/uploads/2018/01/bibleStudy.jpg
GEO:39.4335179;-78.9869938
X-APPLE-STRUCTURED-LOCATION;VALUE=URI;X-ADDRESS=Emmanuel Church 231 Newton Street Keyser WV 26505 United States;X-APPLE-RADIUS=500;X-TITLE=231 Newton Street:geo:-78.9869938,39.4335179
END:VEVENT
BEGIN:VEVENT
DTSTART;TZID=America/New_York:20240603T100000
DTEND;TZID=America/New_York:20240603T110000
DTSTAMP:20260423T200759
CREATED:20180123T212953Z
LAST-MODIFIED:20220911T161059Z
UID:10006279-1717408800-1717412400@emmanuelworship.org
SUMMARY:Monday Morning Bible Study
DESCRIPTION:
URL:https://emmanuelworship.org/event/bible-study/2024-06-03/
LOCATION:Emmanuel Church\, 231 Newton Street\, Keyser\, WV\, 26505\, United States
ATTACH;FMTTYPE=image/jpeg:https://emmanuelworship.org/wp-content/uploads/2018/01/bibleStudy.jpg
GEO:39.4335179;-78.9869938
X-APPLE-STRUCTURED-LOCATION;VALUE=URI;X-ADDRESS=Emmanuel Church 231 Newton Street Keyser WV 26505 United States;X-APPLE-RADIUS=500;X-TITLE=231 Newton Street:geo:-78.9869938,39.4335179
END:VEVENT
BEGIN:VEVENT
DTSTART;TZID=America/New_York:20240602T140000
DTEND;TZID=America/New_York:20240602T150000
DTSTAMP:20260423T200759
CREATED:20210906T215158Z
LAST-MODIFIED:20220912T002914Z
UID:10007682-1717336800-1717340400@emmanuelworship.org
SUMMARY:Pastor's Community Prayer
DESCRIPTION:1st and 3rd Sunday Evenings
URL:https://emmanuelworship.org/event/pastors-community-prayer/2024-06-02/
ATTACH;FMTTYPE=image/jpeg:https://emmanuelworship.org/wp-content/uploads/2021/09/pexels-shelagh-murphy-1666816.jpg
END:VEVENT
BEGIN:VEVENT
DTSTART;TZID=America/New_York:20240602T100000
DTEND;TZID=America/New_York:20240602T110000
DTSTAMP:20260423T200759
CREATED:20180124T210748Z
LAST-MODIFIED:20220911T161016Z
UID:10005587-1717322400-1717326000@emmanuelworship.org
SUMMARY:Sunday School
DESCRIPTION:Children of all ages
URL:https://emmanuelworship.org/event/sunday-school/2024-06-02/
LOCATION:Emmanuel Church\, 231 Newton Street\, Keyser\, WV\, 26505\, United States
CATEGORIES:Sunday School
ATTACH;FMTTYPE=image/jpeg:https://emmanuelworship.org/wp-content/uploads/2018/03/SundaySchl.jpg
GEO:39.4335179;-78.9869938
X-APPLE-STRUCTURED-LOCATION;VALUE=URI;X-ADDRESS=Emmanuel Church 231 Newton Street Keyser WV 26505 United States;X-APPLE-RADIUS=500;X-TITLE=231 Newton Street:geo:-78.9869938,39.4335179
END:VEVENT
BEGIN:VEVENT
DTSTART;TZID=America/New_York:20240602T100000
DTEND;TZID=America/New_York:20240602T110000
DTSTAMP:20260423T200759
CREATED:20180123T020058Z
LAST-MODIFIED:20220911T161913Z
UID:10007287-1717322400-1717326000@emmanuelworship.org
SUMMARY:Morning Worship
DESCRIPTION:
URL:https://emmanuelworship.org/event/sunday-evening-worship/2024-06-02/
LOCATION:Emmanuel Church\, 231 Newton Street\, Keyser\, WV\, 26505\, United States
CATEGORIES:Morning Worship
ATTACH;FMTTYPE=image/jpeg:https://emmanuelworship.org/wp-content/uploads/2018/01/Cross-Sunset.jpg
GEO:39.4335179;-78.9869938
X-APPLE-STRUCTURED-LOCATION;VALUE=URI;X-ADDRESS=Emmanuel Church 231 Newton Street Keyser WV 26505 United States;X-APPLE-RADIUS=500;X-TITLE=231 Newton Street:geo:-78.9869938,39.4335179
END:VEVENT
BEGIN:VEVENT
DTSTART;TZID=America/New_York:20240529T180000
DTEND;TZID=America/New_York:20240529T190000
DTSTAMP:20260423T200759
CREATED:20210906T213649Z
LAST-MODIFIED:20220911T161157Z
UID:10006593-1717005600-1717009200@emmanuelworship.org
SUMMARY:Evening Bible Study
DESCRIPTION:
URL:https://emmanuelworship.org/event/evening-bible-study/2024-05-29/
LOCATION:Emmanuel Church\, 231 Newton Street\, Keyser\, WV\, 26505\, United States
ATTACH;FMTTYPE=image/jpeg:https://emmanuelworship.org/wp-content/uploads/2018/01/bibleStudy.jpg
GEO:39.4335179;-78.9869938
X-APPLE-STRUCTURED-LOCATION;VALUE=URI;X-ADDRESS=Emmanuel Church 231 Newton Street Keyser WV 26505 United States;X-APPLE-RADIUS=500;X-TITLE=231 Newton Street:geo:-78.9869938,39.4335179
END:VEVENT
BEGIN:VEVENT
DTSTART;TZID=America/New_York:20240527T100000
DTEND;TZID=America/New_York:20240527T110000
DTSTAMP:20260423T200759
CREATED:20180123T212953Z
LAST-MODIFIED:20220911T161059Z
UID:10006278-1716804000-1716807600@emmanuelworship.org
SUMMARY:Monday Morning Bible Study
DESCRIPTION:
URL:https://emmanuelworship.org/event/bible-study/2024-05-27/
LOCATION:Emmanuel Church\, 231 Newton Street\, Keyser\, WV\, 26505\, United States
ATTACH;FMTTYPE=image/jpeg:https://emmanuelworship.org/wp-content/uploads/2018/01/bibleStudy.jpg
GEO:39.4335179;-78.9869938
X-APPLE-STRUCTURED-LOCATION;VALUE=URI;X-ADDRESS=Emmanuel Church 231 Newton Street Keyser WV 26505 United States;X-APPLE-RADIUS=500;X-TITLE=231 Newton Street:geo:-78.9869938,39.4335179
END:VEVENT
BEGIN:VEVENT
DTSTART;TZID=America/New_York:20240526T100000
DTEND;TZID=America/New_York:20240526T110000
DTSTAMP:20260423T200759
CREATED:20180124T210748Z
LAST-MODIFIED:20220911T161016Z
UID:10005586-1716717600-1716721200@emmanuelworship.org
SUMMARY:Sunday School
DESCRIPTION:Children of all ages
URL:https://emmanuelworship.org/event/sunday-school/2024-05-26/
LOCATION:Emmanuel Church\, 231 Newton Street\, Keyser\, WV\, 26505\, United States
CATEGORIES:Sunday School
ATTACH;FMTTYPE=image/jpeg:https://emmanuelworship.org/wp-content/uploads/2018/03/SundaySchl.jpg
GEO:39.4335179;-78.9869938
X-APPLE-STRUCTURED-LOCATION;VALUE=URI;X-ADDRESS=Emmanuel Church 231 Newton Street Keyser WV 26505 United States;X-APPLE-RADIUS=500;X-TITLE=231 Newton Street:geo:-78.9869938,39.4335179
END:VEVENT
BEGIN:VEVENT
DTSTART;TZID=America/New_York:20240526T100000
DTEND;TZID=America/New_York:20240526T110000
DTSTAMP:20260423T200759
CREATED:20180123T020058Z
LAST-MODIFIED:20220911T161913Z
UID:10007286-1716717600-1716721200@emmanuelworship.org
SUMMARY:Morning Worship
DESCRIPTION:
URL:https://emmanuelworship.org/event/sunday-evening-worship/2024-05-26/
LOCATION:Emmanuel Church\, 231 Newton Street\, Keyser\, WV\, 26505\, United States
CATEGORIES:Morning Worship
ATTACH;FMTTYPE=image/jpeg:https://emmanuelworship.org/wp-content/uploads/2018/01/Cross-Sunset.jpg
GEO:39.4335179;-78.9869938
X-APPLE-STRUCTURED-LOCATION;VALUE=URI;X-ADDRESS=Emmanuel Church 231 Newton Street Keyser WV 26505 United States;X-APPLE-RADIUS=500;X-TITLE=231 Newton Street:geo:-78.9869938,39.4335179
END:VEVENT
END:VCALENDAR