BEGIN:VCALENDAR
VERSION:2.0
PRODID:-//Emmanuel - ECPv6.15.20//NONSGML v1.0//EN
CALSCALE:GREGORIAN
METHOD:PUBLISH
X-ORIGINAL-URL:https://emmanuelworship.org
X-WR-CALDESC:Events for Emmanuel
REFRESH-INTERVAL;VALUE=DURATION:PT1H
X-Robots-Tag:noindex
X-PUBLISHED-TTL:PT1H
BEGIN:VTIMEZONE
TZID:America/New_York
BEGIN:DAYLIGHT
TZOFFSETFROM:-0500
TZOFFSETTO:-0400
TZNAME:EDT
DTSTART:20220313T070000
END:DAYLIGHT
BEGIN:STANDARD
TZOFFSETFROM:-0400
TZOFFSETTO:-0500
TZNAME:EST
DTSTART:20221106T060000
END:STANDARD
BEGIN:DAYLIGHT
TZOFFSETFROM:-0500
TZOFFSETTO:-0400
TZNAME:EDT
DTSTART:20230312T070000
END:DAYLIGHT
BEGIN:STANDARD
TZOFFSETFROM:-0400
TZOFFSETTO:-0500
TZNAME:EST
DTSTART:20231105T060000
END:STANDARD
BEGIN:DAYLIGHT
TZOFFSETFROM:-0500
TZOFFSETTO:-0400
TZNAME:EDT
DTSTART:20240310T070000
END:DAYLIGHT
BEGIN:STANDARD
TZOFFSETFROM:-0400
TZOFFSETTO:-0500
TZNAME:EST
DTSTART:20241103T060000
END:STANDARD
END:VTIMEZONE
BEGIN:VEVENT
DTSTART;TZID=America/New_York:20230716T100000
DTEND;TZID=America/New_York:20230716T110000
DTSTAMP:20260425T161057
CREATED:20180123T020058Z
LAST-MODIFIED:20220911T161913Z
UID:10007241-1689501600-1689505200@emmanuelworship.org
SUMMARY:Morning Worship
DESCRIPTION:
URL:https://emmanuelworship.org/event/sunday-evening-worship/2023-07-16/
LOCATION:Emmanuel Church\, 231 Newton Street\, Keyser\, WV\, 26505\, United States
CATEGORIES:Morning Worship
ATTACH;FMTTYPE=image/jpeg:https://emmanuelworship.org/wp-content/uploads/2018/01/Cross-Sunset.jpg
GEO:39.4335179;-78.9869938
X-APPLE-STRUCTURED-LOCATION;VALUE=URI;X-ADDRESS=Emmanuel Church 231 Newton Street Keyser WV 26505 United States;X-APPLE-RADIUS=500;X-TITLE=231 Newton Street:geo:-78.9869938,39.4335179
END:VEVENT
BEGIN:VEVENT
DTSTART;TZID=America/New_York:20230712T180000
DTEND;TZID=America/New_York:20230712T190000
DTSTAMP:20260425T161057
CREATED:20210906T213649Z
LAST-MODIFIED:20220911T161157Z
UID:10006547-1689184800-1689188400@emmanuelworship.org
SUMMARY:Evening Bible Study
DESCRIPTION:
URL:https://emmanuelworship.org/event/evening-bible-study/2023-07-12/
LOCATION:Emmanuel Church\, 231 Newton Street\, Keyser\, WV\, 26505\, United States
ATTACH;FMTTYPE=image/jpeg:https://emmanuelworship.org/wp-content/uploads/2018/01/bibleStudy.jpg
GEO:39.4335179;-78.9869938
X-APPLE-STRUCTURED-LOCATION;VALUE=URI;X-ADDRESS=Emmanuel Church 231 Newton Street Keyser WV 26505 United States;X-APPLE-RADIUS=500;X-TITLE=231 Newton Street:geo:-78.9869938,39.4335179
END:VEVENT
BEGIN:VEVENT
DTSTART;TZID=America/New_York:20230710T100000
DTEND;TZID=America/New_York:20230710T110000
DTSTAMP:20260425T161057
CREATED:20180123T212953Z
LAST-MODIFIED:20220911T161059Z
UID:10006232-1688983200-1688986800@emmanuelworship.org
SUMMARY:Monday Morning Bible Study
DESCRIPTION:
URL:https://emmanuelworship.org/event/bible-study/2023-07-10/
LOCATION:Emmanuel Church\, 231 Newton Street\, Keyser\, WV\, 26505\, United States
ATTACH;FMTTYPE=image/jpeg:https://emmanuelworship.org/wp-content/uploads/2018/01/bibleStudy.jpg
GEO:39.4335179;-78.9869938
X-APPLE-STRUCTURED-LOCATION;VALUE=URI;X-ADDRESS=Emmanuel Church 231 Newton Street Keyser WV 26505 United States;X-APPLE-RADIUS=500;X-TITLE=231 Newton Street:geo:-78.9869938,39.4335179
END:VEVENT
BEGIN:VEVENT
DTSTART;TZID=America/New_York:20230709T100000
DTEND;TZID=America/New_York:20230709T110000
DTSTAMP:20260425T161057
CREATED:20180124T210748Z
LAST-MODIFIED:20220911T161016Z
UID:10005540-1688896800-1688900400@emmanuelworship.org
SUMMARY:Sunday School
DESCRIPTION:Children of all ages
URL:https://emmanuelworship.org/event/sunday-school/2023-07-09/
LOCATION:Emmanuel Church\, 231 Newton Street\, Keyser\, WV\, 26505\, United States
CATEGORIES:Sunday School
ATTACH;FMTTYPE=image/jpeg:https://emmanuelworship.org/wp-content/uploads/2018/03/SundaySchl.jpg
GEO:39.4335179;-78.9869938
X-APPLE-STRUCTURED-LOCATION;VALUE=URI;X-ADDRESS=Emmanuel Church 231 Newton Street Keyser WV 26505 United States;X-APPLE-RADIUS=500;X-TITLE=231 Newton Street:geo:-78.9869938,39.4335179
END:VEVENT
BEGIN:VEVENT
DTSTART;TZID=America/New_York:20230709T100000
DTEND;TZID=America/New_York:20230709T110000
DTSTAMP:20260425T161057
CREATED:20180123T020058Z
LAST-MODIFIED:20220911T161913Z
UID:10007240-1688896800-1688900400@emmanuelworship.org
SUMMARY:Morning Worship
DESCRIPTION:
URL:https://emmanuelworship.org/event/sunday-evening-worship/2023-07-09/
LOCATION:Emmanuel Church\, 231 Newton Street\, Keyser\, WV\, 26505\, United States
CATEGORIES:Morning Worship
ATTACH;FMTTYPE=image/jpeg:https://emmanuelworship.org/wp-content/uploads/2018/01/Cross-Sunset.jpg
GEO:39.4335179;-78.9869938
X-APPLE-STRUCTURED-LOCATION;VALUE=URI;X-ADDRESS=Emmanuel Church 231 Newton Street Keyser WV 26505 United States;X-APPLE-RADIUS=500;X-TITLE=231 Newton Street:geo:-78.9869938,39.4335179
END:VEVENT
BEGIN:VEVENT
DTSTART;TZID=America/New_York:20230705T180000
DTEND;TZID=America/New_York:20230705T190000
DTSTAMP:20260425T161057
CREATED:20210906T213649Z
LAST-MODIFIED:20220911T161157Z
UID:10006546-1688580000-1688583600@emmanuelworship.org
SUMMARY:Evening Bible Study
DESCRIPTION:
URL:https://emmanuelworship.org/event/evening-bible-study/2023-07-05/
LOCATION:Emmanuel Church\, 231 Newton Street\, Keyser\, WV\, 26505\, United States
ATTACH;FMTTYPE=image/jpeg:https://emmanuelworship.org/wp-content/uploads/2018/01/bibleStudy.jpg
GEO:39.4335179;-78.9869938
X-APPLE-STRUCTURED-LOCATION;VALUE=URI;X-ADDRESS=Emmanuel Church 231 Newton Street Keyser WV 26505 United States;X-APPLE-RADIUS=500;X-TITLE=231 Newton Street:geo:-78.9869938,39.4335179
END:VEVENT
BEGIN:VEVENT
DTSTART;TZID=America/New_York:20230703T100000
DTEND;TZID=America/New_York:20230703T110000
DTSTAMP:20260425T161057
CREATED:20180123T212953Z
LAST-MODIFIED:20220911T161059Z
UID:10006231-1688378400-1688382000@emmanuelworship.org
SUMMARY:Monday Morning Bible Study
DESCRIPTION:
URL:https://emmanuelworship.org/event/bible-study/2023-07-03/
LOCATION:Emmanuel Church\, 231 Newton Street\, Keyser\, WV\, 26505\, United States
ATTACH;FMTTYPE=image/jpeg:https://emmanuelworship.org/wp-content/uploads/2018/01/bibleStudy.jpg
GEO:39.4335179;-78.9869938
X-APPLE-STRUCTURED-LOCATION;VALUE=URI;X-ADDRESS=Emmanuel Church 231 Newton Street Keyser WV 26505 United States;X-APPLE-RADIUS=500;X-TITLE=231 Newton Street:geo:-78.9869938,39.4335179
END:VEVENT
BEGIN:VEVENT
DTSTART;TZID=America/New_York:20230702T140000
DTEND;TZID=America/New_York:20230702T150000
DTSTAMP:20260425T161057
CREATED:20210906T215158Z
LAST-MODIFIED:20220912T002914Z
UID:10007671-1688306400-1688310000@emmanuelworship.org
SUMMARY:Pastor's Community Prayer
DESCRIPTION:1st and 3rd Sunday Evenings
URL:https://emmanuelworship.org/event/pastors-community-prayer/2023-07-02/
LOCATION:WV
ATTACH;FMTTYPE=image/jpeg:https://emmanuelworship.org/wp-content/uploads/2021/09/pexels-shelagh-murphy-1666816.jpg
END:VEVENT
BEGIN:VEVENT
DTSTART;TZID=America/New_York:20230702T100000
DTEND;TZID=America/New_York:20230702T110000
DTSTAMP:20260425T161057
CREATED:20180124T210748Z
LAST-MODIFIED:20220911T161016Z
UID:10005539-1688292000-1688295600@emmanuelworship.org
SUMMARY:Sunday School
DESCRIPTION:Children of all ages
URL:https://emmanuelworship.org/event/sunday-school/2023-07-02/
LOCATION:Emmanuel Church\, 231 Newton Street\, Keyser\, WV\, 26505\, United States
CATEGORIES:Sunday School
ATTACH;FMTTYPE=image/jpeg:https://emmanuelworship.org/wp-content/uploads/2018/03/SundaySchl.jpg
GEO:39.4335179;-78.9869938
X-APPLE-STRUCTURED-LOCATION;VALUE=URI;X-ADDRESS=Emmanuel Church 231 Newton Street Keyser WV 26505 United States;X-APPLE-RADIUS=500;X-TITLE=231 Newton Street:geo:-78.9869938,39.4335179
END:VEVENT
BEGIN:VEVENT
DTSTART;TZID=America/New_York:20230702T100000
DTEND;TZID=America/New_York:20230702T110000
DTSTAMP:20260425T161057
CREATED:20180123T020058Z
LAST-MODIFIED:20220911T161913Z
UID:10007239-1688292000-1688295600@emmanuelworship.org
SUMMARY:Morning Worship
DESCRIPTION:
URL:https://emmanuelworship.org/event/sunday-evening-worship/2023-07-02/
LOCATION:Emmanuel Church\, 231 Newton Street\, Keyser\, WV\, 26505\, United States
CATEGORIES:Morning Worship
ATTACH;FMTTYPE=image/jpeg:https://emmanuelworship.org/wp-content/uploads/2018/01/Cross-Sunset.jpg
GEO:39.4335179;-78.9869938
X-APPLE-STRUCTURED-LOCATION;VALUE=URI;X-ADDRESS=Emmanuel Church 231 Newton Street Keyser WV 26505 United States;X-APPLE-RADIUS=500;X-TITLE=231 Newton Street:geo:-78.9869938,39.4335179
END:VEVENT
BEGIN:VEVENT
DTSTART;TZID=America/New_York:20230628T180000
DTEND;TZID=America/New_York:20230628T190000
DTSTAMP:20260425T161057
CREATED:20210906T213649Z
LAST-MODIFIED:20220911T161157Z
UID:10006545-1687975200-1687978800@emmanuelworship.org
SUMMARY:Evening Bible Study
DESCRIPTION:
URL:https://emmanuelworship.org/event/evening-bible-study/2023-06-28/
LOCATION:Emmanuel Church\, 231 Newton Street\, Keyser\, WV\, 26505\, United States
ATTACH;FMTTYPE=image/jpeg:https://emmanuelworship.org/wp-content/uploads/2018/01/bibleStudy.jpg
GEO:39.4335179;-78.9869938
X-APPLE-STRUCTURED-LOCATION;VALUE=URI;X-ADDRESS=Emmanuel Church 231 Newton Street Keyser WV 26505 United States;X-APPLE-RADIUS=500;X-TITLE=231 Newton Street:geo:-78.9869938,39.4335179
END:VEVENT
BEGIN:VEVENT
DTSTART;TZID=America/New_York:20230626T100000
DTEND;TZID=America/New_York:20230626T110000
DTSTAMP:20260425T161057
CREATED:20180123T212953Z
LAST-MODIFIED:20220911T161059Z
UID:10006230-1687773600-1687777200@emmanuelworship.org
SUMMARY:Monday Morning Bible Study
DESCRIPTION:
URL:https://emmanuelworship.org/event/bible-study/2023-06-26/
LOCATION:Emmanuel Church\, 231 Newton Street\, Keyser\, WV\, 26505\, United States
ATTACH;FMTTYPE=image/jpeg:https://emmanuelworship.org/wp-content/uploads/2018/01/bibleStudy.jpg
GEO:39.4335179;-78.9869938
X-APPLE-STRUCTURED-LOCATION;VALUE=URI;X-ADDRESS=Emmanuel Church 231 Newton Street Keyser WV 26505 United States;X-APPLE-RADIUS=500;X-TITLE=231 Newton Street:geo:-78.9869938,39.4335179
END:VEVENT
BEGIN:VEVENT
DTSTART;TZID=America/New_York:20230625T100000
DTEND;TZID=America/New_York:20230625T110000
DTSTAMP:20260425T161057
CREATED:20180124T210748Z
LAST-MODIFIED:20220911T161016Z
UID:10005538-1687687200-1687690800@emmanuelworship.org
SUMMARY:Sunday School
DESCRIPTION:Children of all ages
URL:https://emmanuelworship.org/event/sunday-school/2023-06-25/
LOCATION:Emmanuel Church\, 231 Newton Street\, Keyser\, WV\, 26505\, United States
CATEGORIES:Sunday School
ATTACH;FMTTYPE=image/jpeg:https://emmanuelworship.org/wp-content/uploads/2018/03/SundaySchl.jpg
GEO:39.4335179;-78.9869938
X-APPLE-STRUCTURED-LOCATION;VALUE=URI;X-ADDRESS=Emmanuel Church 231 Newton Street Keyser WV 26505 United States;X-APPLE-RADIUS=500;X-TITLE=231 Newton Street:geo:-78.9869938,39.4335179
END:VEVENT
BEGIN:VEVENT
DTSTART;TZID=America/New_York:20230625T100000
DTEND;TZID=America/New_York:20230625T110000
DTSTAMP:20260425T161057
CREATED:20180123T020058Z
LAST-MODIFIED:20220911T161913Z
UID:10007238-1687687200-1687690800@emmanuelworship.org
SUMMARY:Morning Worship
DESCRIPTION:
URL:https://emmanuelworship.org/event/sunday-evening-worship/2023-06-25/
LOCATION:Emmanuel Church\, 231 Newton Street\, Keyser\, WV\, 26505\, United States
CATEGORIES:Morning Worship
ATTACH;FMTTYPE=image/jpeg:https://emmanuelworship.org/wp-content/uploads/2018/01/Cross-Sunset.jpg
GEO:39.4335179;-78.9869938
X-APPLE-STRUCTURED-LOCATION;VALUE=URI;X-ADDRESS=Emmanuel Church 231 Newton Street Keyser WV 26505 United States;X-APPLE-RADIUS=500;X-TITLE=231 Newton Street:geo:-78.9869938,39.4335179
END:VEVENT
BEGIN:VEVENT
DTSTART;TZID=America/New_York:20230621T180000
DTEND;TZID=America/New_York:20230621T190000
DTSTAMP:20260425T161057
CREATED:20210906T213649Z
LAST-MODIFIED:20220911T161157Z
UID:10006544-1687370400-1687374000@emmanuelworship.org
SUMMARY:Evening Bible Study
DESCRIPTION:
URL:https://emmanuelworship.org/event/evening-bible-study/2023-06-21/
LOCATION:Emmanuel Church\, 231 Newton Street\, Keyser\, WV\, 26505\, United States
ATTACH;FMTTYPE=image/jpeg:https://emmanuelworship.org/wp-content/uploads/2018/01/bibleStudy.jpg
GEO:39.4335179;-78.9869938
X-APPLE-STRUCTURED-LOCATION;VALUE=URI;X-ADDRESS=Emmanuel Church 231 Newton Street Keyser WV 26505 United States;X-APPLE-RADIUS=500;X-TITLE=231 Newton Street:geo:-78.9869938,39.4335179
END:VEVENT
BEGIN:VEVENT
DTSTART;TZID=America/New_York:20230619T100000
DTEND;TZID=America/New_York:20230619T110000
DTSTAMP:20260425T161057
CREATED:20180123T212953Z
LAST-MODIFIED:20220911T161059Z
UID:10006229-1687168800-1687172400@emmanuelworship.org
SUMMARY:Monday Morning Bible Study
DESCRIPTION:
URL:https://emmanuelworship.org/event/bible-study/2023-06-19/
LOCATION:Emmanuel Church\, 231 Newton Street\, Keyser\, WV\, 26505\, United States
ATTACH;FMTTYPE=image/jpeg:https://emmanuelworship.org/wp-content/uploads/2018/01/bibleStudy.jpg
GEO:39.4335179;-78.9869938
X-APPLE-STRUCTURED-LOCATION;VALUE=URI;X-ADDRESS=Emmanuel Church 231 Newton Street Keyser WV 26505 United States;X-APPLE-RADIUS=500;X-TITLE=231 Newton Street:geo:-78.9869938,39.4335179
END:VEVENT
BEGIN:VEVENT
DTSTART;TZID=America/New_York:20230618T140000
DTEND;TZID=America/New_York:20230618T150000
DTSTAMP:20260425T161057
CREATED:20210906T215201Z
LAST-MODIFIED:20220912T003031Z
UID:10007707-1687096800-1687100400@emmanuelworship.org
SUMMARY:Pastor's Community Prayer
DESCRIPTION:1st and 3rd Sunday Evenings
URL:https://emmanuelworship.org/event/pastors-community-prayer-2/2023-06-18/
LOCATION:WV
ATTACH;FMTTYPE=image/jpeg:https://emmanuelworship.org/wp-content/uploads/2021/09/pexels-shelagh-murphy-1666816.jpg
END:VEVENT
BEGIN:VEVENT
DTSTART;TZID=America/New_York:20230618T100000
DTEND;TZID=America/New_York:20230618T110000
DTSTAMP:20260425T161057
CREATED:20180124T210748Z
LAST-MODIFIED:20220911T161016Z
UID:10005537-1687082400-1687086000@emmanuelworship.org
SUMMARY:Sunday School
DESCRIPTION:Children of all ages
URL:https://emmanuelworship.org/event/sunday-school/2023-06-18/
LOCATION:Emmanuel Church\, 231 Newton Street\, Keyser\, WV\, 26505\, United States
CATEGORIES:Sunday School
ATTACH;FMTTYPE=image/jpeg:https://emmanuelworship.org/wp-content/uploads/2018/03/SundaySchl.jpg
GEO:39.4335179;-78.9869938
X-APPLE-STRUCTURED-LOCATION;VALUE=URI;X-ADDRESS=Emmanuel Church 231 Newton Street Keyser WV 26505 United States;X-APPLE-RADIUS=500;X-TITLE=231 Newton Street:geo:-78.9869938,39.4335179
END:VEVENT
BEGIN:VEVENT
DTSTART;TZID=America/New_York:20230618T100000
DTEND;TZID=America/New_York:20230618T110000
DTSTAMP:20260425T161057
CREATED:20180123T020058Z
LAST-MODIFIED:20220911T161913Z
UID:10007237-1687082400-1687086000@emmanuelworship.org
SUMMARY:Morning Worship
DESCRIPTION:
URL:https://emmanuelworship.org/event/sunday-evening-worship/2023-06-18/
LOCATION:Emmanuel Church\, 231 Newton Street\, Keyser\, WV\, 26505\, United States
CATEGORIES:Morning Worship
ATTACH;FMTTYPE=image/jpeg:https://emmanuelworship.org/wp-content/uploads/2018/01/Cross-Sunset.jpg
GEO:39.4335179;-78.9869938
X-APPLE-STRUCTURED-LOCATION;VALUE=URI;X-ADDRESS=Emmanuel Church 231 Newton Street Keyser WV 26505 United States;X-APPLE-RADIUS=500;X-TITLE=231 Newton Street:geo:-78.9869938,39.4335179
END:VEVENT
BEGIN:VEVENT
DTSTART;TZID=America/New_York:20230614T180000
DTEND;TZID=America/New_York:20230614T190000
DTSTAMP:20260425T161057
CREATED:20210906T213649Z
LAST-MODIFIED:20220911T161157Z
UID:10006543-1686765600-1686769200@emmanuelworship.org
SUMMARY:Evening Bible Study
DESCRIPTION:
URL:https://emmanuelworship.org/event/evening-bible-study/2023-06-14/
LOCATION:Emmanuel Church\, 231 Newton Street\, Keyser\, WV\, 26505\, United States
ATTACH;FMTTYPE=image/jpeg:https://emmanuelworship.org/wp-content/uploads/2018/01/bibleStudy.jpg
GEO:39.4335179;-78.9869938
X-APPLE-STRUCTURED-LOCATION;VALUE=URI;X-ADDRESS=Emmanuel Church 231 Newton Street Keyser WV 26505 United States;X-APPLE-RADIUS=500;X-TITLE=231 Newton Street:geo:-78.9869938,39.4335179
END:VEVENT
BEGIN:VEVENT
DTSTART;TZID=America/New_York:20230612T100000
DTEND;TZID=America/New_York:20230612T110000
DTSTAMP:20260425T161057
CREATED:20180123T212953Z
LAST-MODIFIED:20220911T161059Z
UID:10006228-1686564000-1686567600@emmanuelworship.org
SUMMARY:Monday Morning Bible Study
DESCRIPTION:
URL:https://emmanuelworship.org/event/bible-study/2023-06-12/
LOCATION:Emmanuel Church\, 231 Newton Street\, Keyser\, WV\, 26505\, United States
ATTACH;FMTTYPE=image/jpeg:https://emmanuelworship.org/wp-content/uploads/2018/01/bibleStudy.jpg
GEO:39.4335179;-78.9869938
X-APPLE-STRUCTURED-LOCATION;VALUE=URI;X-ADDRESS=Emmanuel Church 231 Newton Street Keyser WV 26505 United States;X-APPLE-RADIUS=500;X-TITLE=231 Newton Street:geo:-78.9869938,39.4335179
END:VEVENT
BEGIN:VEVENT
DTSTART;TZID=America/New_York:20230611T100000
DTEND;TZID=America/New_York:20230611T110000
DTSTAMP:20260425T161057
CREATED:20180124T210748Z
LAST-MODIFIED:20220911T161016Z
UID:10005536-1686477600-1686481200@emmanuelworship.org
SUMMARY:Sunday School
DESCRIPTION:Children of all ages
URL:https://emmanuelworship.org/event/sunday-school/2023-06-11/
LOCATION:Emmanuel Church\, 231 Newton Street\, Keyser\, WV\, 26505\, United States
CATEGORIES:Sunday School
ATTACH;FMTTYPE=image/jpeg:https://emmanuelworship.org/wp-content/uploads/2018/03/SundaySchl.jpg
GEO:39.4335179;-78.9869938
X-APPLE-STRUCTURED-LOCATION;VALUE=URI;X-ADDRESS=Emmanuel Church 231 Newton Street Keyser WV 26505 United States;X-APPLE-RADIUS=500;X-TITLE=231 Newton Street:geo:-78.9869938,39.4335179
END:VEVENT
BEGIN:VEVENT
DTSTART;TZID=America/New_York:20230611T100000
DTEND;TZID=America/New_York:20230611T110000
DTSTAMP:20260425T161057
CREATED:20180123T020058Z
LAST-MODIFIED:20220911T161913Z
UID:10007236-1686477600-1686481200@emmanuelworship.org
SUMMARY:Morning Worship
DESCRIPTION:
URL:https://emmanuelworship.org/event/sunday-evening-worship/2023-06-11/
LOCATION:Emmanuel Church\, 231 Newton Street\, Keyser\, WV\, 26505\, United States
CATEGORIES:Morning Worship
ATTACH;FMTTYPE=image/jpeg:https://emmanuelworship.org/wp-content/uploads/2018/01/Cross-Sunset.jpg
GEO:39.4335179;-78.9869938
X-APPLE-STRUCTURED-LOCATION;VALUE=URI;X-ADDRESS=Emmanuel Church 231 Newton Street Keyser WV 26505 United States;X-APPLE-RADIUS=500;X-TITLE=231 Newton Street:geo:-78.9869938,39.4335179
END:VEVENT
BEGIN:VEVENT
DTSTART;TZID=America/New_York:20230607T180000
DTEND;TZID=America/New_York:20230607T190000
DTSTAMP:20260425T161057
CREATED:20210906T213649Z
LAST-MODIFIED:20220911T161157Z
UID:10006542-1686160800-1686164400@emmanuelworship.org
SUMMARY:Evening Bible Study
DESCRIPTION:
URL:https://emmanuelworship.org/event/evening-bible-study/2023-06-07/
LOCATION:Emmanuel Church\, 231 Newton Street\, Keyser\, WV\, 26505\, United States
ATTACH;FMTTYPE=image/jpeg:https://emmanuelworship.org/wp-content/uploads/2018/01/bibleStudy.jpg
GEO:39.4335179;-78.9869938
X-APPLE-STRUCTURED-LOCATION;VALUE=URI;X-ADDRESS=Emmanuel Church 231 Newton Street Keyser WV 26505 United States;X-APPLE-RADIUS=500;X-TITLE=231 Newton Street:geo:-78.9869938,39.4335179
END:VEVENT
BEGIN:VEVENT
DTSTART;TZID=America/New_York:20230605T100000
DTEND;TZID=America/New_York:20230605T110000
DTSTAMP:20260425T161057
CREATED:20180123T212953Z
LAST-MODIFIED:20220911T161059Z
UID:10006227-1685959200-1685962800@emmanuelworship.org
SUMMARY:Monday Morning Bible Study
DESCRIPTION:
URL:https://emmanuelworship.org/event/bible-study/2023-06-05/
LOCATION:Emmanuel Church\, 231 Newton Street\, Keyser\, WV\, 26505\, United States
ATTACH;FMTTYPE=image/jpeg:https://emmanuelworship.org/wp-content/uploads/2018/01/bibleStudy.jpg
GEO:39.4335179;-78.9869938
X-APPLE-STRUCTURED-LOCATION;VALUE=URI;X-ADDRESS=Emmanuel Church 231 Newton Street Keyser WV 26505 United States;X-APPLE-RADIUS=500;X-TITLE=231 Newton Street:geo:-78.9869938,39.4335179
END:VEVENT
BEGIN:VEVENT
DTSTART;TZID=America/New_York:20230604T140000
DTEND;TZID=America/New_York:20230604T150000
DTSTAMP:20260425T161057
CREATED:20210906T215158Z
LAST-MODIFIED:20220912T002914Z
UID:10007670-1685887200-1685890800@emmanuelworship.org
SUMMARY:Pastor's Community Prayer
DESCRIPTION:1st and 3rd Sunday Evenings
URL:https://emmanuelworship.org/event/pastors-community-prayer/2023-06-04/
LOCATION:WV
ATTACH;FMTTYPE=image/jpeg:https://emmanuelworship.org/wp-content/uploads/2021/09/pexels-shelagh-murphy-1666816.jpg
END:VEVENT
BEGIN:VEVENT
DTSTART;TZID=America/New_York:20230604T100000
DTEND;TZID=America/New_York:20230604T110000
DTSTAMP:20260425T161057
CREATED:20180124T210748Z
LAST-MODIFIED:20220911T161016Z
UID:10005535-1685872800-1685876400@emmanuelworship.org
SUMMARY:Sunday School
DESCRIPTION:Children of all ages
URL:https://emmanuelworship.org/event/sunday-school/2023-06-04/
LOCATION:Emmanuel Church\, 231 Newton Street\, Keyser\, WV\, 26505\, United States
CATEGORIES:Sunday School
ATTACH;FMTTYPE=image/jpeg:https://emmanuelworship.org/wp-content/uploads/2018/03/SundaySchl.jpg
GEO:39.4335179;-78.9869938
X-APPLE-STRUCTURED-LOCATION;VALUE=URI;X-ADDRESS=Emmanuel Church 231 Newton Street Keyser WV 26505 United States;X-APPLE-RADIUS=500;X-TITLE=231 Newton Street:geo:-78.9869938,39.4335179
END:VEVENT
BEGIN:VEVENT
DTSTART;TZID=America/New_York:20230604T100000
DTEND;TZID=America/New_York:20230604T110000
DTSTAMP:20260425T161057
CREATED:20180123T020058Z
LAST-MODIFIED:20220911T161913Z
UID:10007235-1685872800-1685876400@emmanuelworship.org
SUMMARY:Morning Worship
DESCRIPTION:
URL:https://emmanuelworship.org/event/sunday-evening-worship/2023-06-04/
LOCATION:Emmanuel Church\, 231 Newton Street\, Keyser\, WV\, 26505\, United States
CATEGORIES:Morning Worship
ATTACH;FMTTYPE=image/jpeg:https://emmanuelworship.org/wp-content/uploads/2018/01/Cross-Sunset.jpg
GEO:39.4335179;-78.9869938
X-APPLE-STRUCTURED-LOCATION;VALUE=URI;X-ADDRESS=Emmanuel Church 231 Newton Street Keyser WV 26505 United States;X-APPLE-RADIUS=500;X-TITLE=231 Newton Street:geo:-78.9869938,39.4335179
END:VEVENT
BEGIN:VEVENT
DTSTART;TZID=America/New_York:20230531T180000
DTEND;TZID=America/New_York:20230531T190000
DTSTAMP:20260425T161057
CREATED:20210906T213649Z
LAST-MODIFIED:20220911T161157Z
UID:10006541-1685556000-1685559600@emmanuelworship.org
SUMMARY:Evening Bible Study
DESCRIPTION:
URL:https://emmanuelworship.org/event/evening-bible-study/2023-05-31/
LOCATION:Emmanuel Church\, 231 Newton Street\, Keyser\, WV\, 26505\, United States
ATTACH;FMTTYPE=image/jpeg:https://emmanuelworship.org/wp-content/uploads/2018/01/bibleStudy.jpg
GEO:39.4335179;-78.9869938
X-APPLE-STRUCTURED-LOCATION;VALUE=URI;X-ADDRESS=Emmanuel Church 231 Newton Street Keyser WV 26505 United States;X-APPLE-RADIUS=500;X-TITLE=231 Newton Street:geo:-78.9869938,39.4335179
END:VEVENT
BEGIN:VEVENT
DTSTART;TZID=America/New_York:20230529T100000
DTEND;TZID=America/New_York:20230529T110000
DTSTAMP:20260425T161057
CREATED:20180123T212953Z
LAST-MODIFIED:20220911T161059Z
UID:10006226-1685354400-1685358000@emmanuelworship.org
SUMMARY:Monday Morning Bible Study
DESCRIPTION:
URL:https://emmanuelworship.org/event/bible-study/2023-05-29/
LOCATION:Emmanuel Church\, 231 Newton Street\, Keyser\, WV\, 26505\, United States
ATTACH;FMTTYPE=image/jpeg:https://emmanuelworship.org/wp-content/uploads/2018/01/bibleStudy.jpg
GEO:39.4335179;-78.9869938
X-APPLE-STRUCTURED-LOCATION;VALUE=URI;X-ADDRESS=Emmanuel Church 231 Newton Street Keyser WV 26505 United States;X-APPLE-RADIUS=500;X-TITLE=231 Newton Street:geo:-78.9869938,39.4335179
END:VEVENT
END:VCALENDAR