BEGIN:VCALENDAR
VERSION:2.0
PRODID:-//Emmanuel - ECPv6.15.20//NONSGML v1.0//EN
CALSCALE:GREGORIAN
METHOD:PUBLISH
X-ORIGINAL-URL:https://emmanuelworship.org
X-WR-CALDESC:Events for Emmanuel
REFRESH-INTERVAL;VALUE=DURATION:PT1H
X-Robots-Tag:noindex
X-PUBLISHED-TTL:PT1H
BEGIN:VTIMEZONE
TZID:America/New_York
BEGIN:DAYLIGHT
TZOFFSETFROM:-0500
TZOFFSETTO:-0400
TZNAME:EDT
DTSTART:20230312T070000
END:DAYLIGHT
BEGIN:STANDARD
TZOFFSETFROM:-0400
TZOFFSETTO:-0500
TZNAME:EST
DTSTART:20231105T060000
END:STANDARD
BEGIN:DAYLIGHT
TZOFFSETFROM:-0500
TZOFFSETTO:-0400
TZNAME:EDT
DTSTART:20240310T070000
END:DAYLIGHT
BEGIN:STANDARD
TZOFFSETFROM:-0400
TZOFFSETTO:-0500
TZNAME:EST
DTSTART:20241103T060000
END:STANDARD
BEGIN:DAYLIGHT
TZOFFSETFROM:-0500
TZOFFSETTO:-0400
TZNAME:EDT
DTSTART:20250309T070000
END:DAYLIGHT
BEGIN:STANDARD
TZOFFSETFROM:-0400
TZOFFSETTO:-0500
TZNAME:EST
DTSTART:20251102T060000
END:STANDARD
END:VTIMEZONE
BEGIN:VEVENT
DTSTART;TZID=America/New_York:20240421T140000
DTEND;TZID=America/New_York:20240421T150000
DTSTAMP:20260424T055620
CREATED:20210906T215201Z
LAST-MODIFIED:20220912T003031Z
UID:10007717-1713708000-1713711600@emmanuelworship.org
SUMMARY:Pastor's Community Prayer
DESCRIPTION:1st and 3rd Sunday Evenings
URL:https://emmanuelworship.org/event/pastors-community-prayer-2/2024-04-21/
LOCATION:WV
ATTACH;FMTTYPE=image/jpeg:https://emmanuelworship.org/wp-content/uploads/2021/09/pexels-shelagh-murphy-1666816.jpg
END:VEVENT
BEGIN:VEVENT
DTSTART;TZID=America/New_York:20240421T100000
DTEND;TZID=America/New_York:20240421T110000
DTSTAMP:20260424T055620
CREATED:20180124T210748Z
LAST-MODIFIED:20220911T161016Z
UID:10005581-1713693600-1713697200@emmanuelworship.org
SUMMARY:Sunday School
DESCRIPTION:Children of all ages
URL:https://emmanuelworship.org/event/sunday-school/2024-04-21/
LOCATION:Emmanuel Church\, 231 Newton Street\, Keyser\, WV\, 26505\, United States
CATEGORIES:Sunday School
ATTACH;FMTTYPE=image/jpeg:https://emmanuelworship.org/wp-content/uploads/2018/03/SundaySchl.jpg
GEO:39.4335179;-78.9869938
X-APPLE-STRUCTURED-LOCATION;VALUE=URI;X-ADDRESS=Emmanuel Church 231 Newton Street Keyser WV 26505 United States;X-APPLE-RADIUS=500;X-TITLE=231 Newton Street:geo:-78.9869938,39.4335179
END:VEVENT
BEGIN:VEVENT
DTSTART;TZID=America/New_York:20240421T100000
DTEND;TZID=America/New_York:20240421T110000
DTSTAMP:20260424T055620
CREATED:20180123T020058Z
LAST-MODIFIED:20220911T161913Z
UID:10007281-1713693600-1713697200@emmanuelworship.org
SUMMARY:Morning Worship
DESCRIPTION:
URL:https://emmanuelworship.org/event/sunday-evening-worship/2024-04-21/
LOCATION:Emmanuel Church\, 231 Newton Street\, Keyser\, WV\, 26505\, United States
CATEGORIES:Morning Worship
ATTACH;FMTTYPE=image/jpeg:https://emmanuelworship.org/wp-content/uploads/2018/01/Cross-Sunset.jpg
GEO:39.4335179;-78.9869938
X-APPLE-STRUCTURED-LOCATION;VALUE=URI;X-ADDRESS=Emmanuel Church 231 Newton Street Keyser WV 26505 United States;X-APPLE-RADIUS=500;X-TITLE=231 Newton Street:geo:-78.9869938,39.4335179
END:VEVENT
BEGIN:VEVENT
DTSTART;TZID=America/New_York:20240417T180000
DTEND;TZID=America/New_York:20240417T190000
DTSTAMP:20260424T055620
CREATED:20210906T213649Z
LAST-MODIFIED:20220911T161157Z
UID:10006587-1713376800-1713380400@emmanuelworship.org
SUMMARY:Evening Bible Study
DESCRIPTION:
URL:https://emmanuelworship.org/event/evening-bible-study/2024-04-17/
LOCATION:Emmanuel Church\, 231 Newton Street\, Keyser\, WV\, 26505\, United States
ATTACH;FMTTYPE=image/jpeg:https://emmanuelworship.org/wp-content/uploads/2018/01/bibleStudy.jpg
GEO:39.4335179;-78.9869938
X-APPLE-STRUCTURED-LOCATION;VALUE=URI;X-ADDRESS=Emmanuel Church 231 Newton Street Keyser WV 26505 United States;X-APPLE-RADIUS=500;X-TITLE=231 Newton Street:geo:-78.9869938,39.4335179
END:VEVENT
BEGIN:VEVENT
DTSTART;TZID=America/New_York:20240415T100000
DTEND;TZID=America/New_York:20240415T110000
DTSTAMP:20260424T055620
CREATED:20180123T212953Z
LAST-MODIFIED:20220911T161059Z
UID:10006272-1713175200-1713178800@emmanuelworship.org
SUMMARY:Monday Morning Bible Study
DESCRIPTION:
URL:https://emmanuelworship.org/event/bible-study/2024-04-15/
LOCATION:Emmanuel Church\, 231 Newton Street\, Keyser\, WV\, 26505\, United States
ATTACH;FMTTYPE=image/jpeg:https://emmanuelworship.org/wp-content/uploads/2018/01/bibleStudy.jpg
GEO:39.4335179;-78.9869938
X-APPLE-STRUCTURED-LOCATION;VALUE=URI;X-ADDRESS=Emmanuel Church 231 Newton Street Keyser WV 26505 United States;X-APPLE-RADIUS=500;X-TITLE=231 Newton Street:geo:-78.9869938,39.4335179
END:VEVENT
BEGIN:VEVENT
DTSTART;TZID=America/New_York:20240414T100000
DTEND;TZID=America/New_York:20240414T110000
DTSTAMP:20260424T055620
CREATED:20180124T210748Z
LAST-MODIFIED:20220911T161016Z
UID:10005580-1713088800-1713092400@emmanuelworship.org
SUMMARY:Sunday School
DESCRIPTION:Children of all ages
URL:https://emmanuelworship.org/event/sunday-school/2024-04-14/
LOCATION:Emmanuel Church\, 231 Newton Street\, Keyser\, WV\, 26505\, United States
CATEGORIES:Sunday School
ATTACH;FMTTYPE=image/jpeg:https://emmanuelworship.org/wp-content/uploads/2018/03/SundaySchl.jpg
GEO:39.4335179;-78.9869938
X-APPLE-STRUCTURED-LOCATION;VALUE=URI;X-ADDRESS=Emmanuel Church 231 Newton Street Keyser WV 26505 United States;X-APPLE-RADIUS=500;X-TITLE=231 Newton Street:geo:-78.9869938,39.4335179
END:VEVENT
BEGIN:VEVENT
DTSTART;TZID=America/New_York:20240414T100000
DTEND;TZID=America/New_York:20240414T110000
DTSTAMP:20260424T055620
CREATED:20180123T020058Z
LAST-MODIFIED:20220911T161913Z
UID:10007280-1713088800-1713092400@emmanuelworship.org
SUMMARY:Morning Worship
DESCRIPTION:
URL:https://emmanuelworship.org/event/sunday-evening-worship/2024-04-14/
LOCATION:Emmanuel Church\, 231 Newton Street\, Keyser\, WV\, 26505\, United States
CATEGORIES:Morning Worship
ATTACH;FMTTYPE=image/jpeg:https://emmanuelworship.org/wp-content/uploads/2018/01/Cross-Sunset.jpg
GEO:39.4335179;-78.9869938
X-APPLE-STRUCTURED-LOCATION;VALUE=URI;X-ADDRESS=Emmanuel Church 231 Newton Street Keyser WV 26505 United States;X-APPLE-RADIUS=500;X-TITLE=231 Newton Street:geo:-78.9869938,39.4335179
END:VEVENT
BEGIN:VEVENT
DTSTART;TZID=America/New_York:20240410T180000
DTEND;TZID=America/New_York:20240410T190000
DTSTAMP:20260424T055620
CREATED:20210906T213649Z
LAST-MODIFIED:20220911T161157Z
UID:10006586-1712772000-1712775600@emmanuelworship.org
SUMMARY:Evening Bible Study
DESCRIPTION:
URL:https://emmanuelworship.org/event/evening-bible-study/2024-04-10/
LOCATION:Emmanuel Church\, 231 Newton Street\, Keyser\, WV\, 26505\, United States
ATTACH;FMTTYPE=image/jpeg:https://emmanuelworship.org/wp-content/uploads/2018/01/bibleStudy.jpg
GEO:39.4335179;-78.9869938
X-APPLE-STRUCTURED-LOCATION;VALUE=URI;X-ADDRESS=Emmanuel Church 231 Newton Street Keyser WV 26505 United States;X-APPLE-RADIUS=500;X-TITLE=231 Newton Street:geo:-78.9869938,39.4335179
END:VEVENT
BEGIN:VEVENT
DTSTART;TZID=America/New_York:20240408T100000
DTEND;TZID=America/New_York:20240408T110000
DTSTAMP:20260424T055620
CREATED:20180123T212953Z
LAST-MODIFIED:20220911T161059Z
UID:10006271-1712570400-1712574000@emmanuelworship.org
SUMMARY:Monday Morning Bible Study
DESCRIPTION:
URL:https://emmanuelworship.org/event/bible-study/2024-04-08/
LOCATION:Emmanuel Church\, 231 Newton Street\, Keyser\, WV\, 26505\, United States
ATTACH;FMTTYPE=image/jpeg:https://emmanuelworship.org/wp-content/uploads/2018/01/bibleStudy.jpg
GEO:39.4335179;-78.9869938
X-APPLE-STRUCTURED-LOCATION;VALUE=URI;X-ADDRESS=Emmanuel Church 231 Newton Street Keyser WV 26505 United States;X-APPLE-RADIUS=500;X-TITLE=231 Newton Street:geo:-78.9869938,39.4335179
END:VEVENT
BEGIN:VEVENT
DTSTART;TZID=America/New_York:20240407T140000
DTEND;TZID=America/New_York:20240407T150000
DTSTAMP:20260424T055620
CREATED:20210906T215158Z
LAST-MODIFIED:20220912T002914Z
UID:10007680-1712498400-1712502000@emmanuelworship.org
SUMMARY:Pastor's Community Prayer
DESCRIPTION:1st and 3rd Sunday Evenings
URL:https://emmanuelworship.org/event/pastors-community-prayer/2024-04-07/
LOCATION:WV
ATTACH;FMTTYPE=image/jpeg:https://emmanuelworship.org/wp-content/uploads/2021/09/pexels-shelagh-murphy-1666816.jpg
END:VEVENT
BEGIN:VEVENT
DTSTART;TZID=America/New_York:20240407T100000
DTEND;TZID=America/New_York:20240407T110000
DTSTAMP:20260424T055620
CREATED:20180124T210748Z
LAST-MODIFIED:20220911T161016Z
UID:10005579-1712484000-1712487600@emmanuelworship.org
SUMMARY:Sunday School
DESCRIPTION:Children of all ages
URL:https://emmanuelworship.org/event/sunday-school/2024-04-07/
LOCATION:Emmanuel Church\, 231 Newton Street\, Keyser\, WV\, 26505\, United States
CATEGORIES:Sunday School
ATTACH;FMTTYPE=image/jpeg:https://emmanuelworship.org/wp-content/uploads/2018/03/SundaySchl.jpg
GEO:39.4335179;-78.9869938
X-APPLE-STRUCTURED-LOCATION;VALUE=URI;X-ADDRESS=Emmanuel Church 231 Newton Street Keyser WV 26505 United States;X-APPLE-RADIUS=500;X-TITLE=231 Newton Street:geo:-78.9869938,39.4335179
END:VEVENT
BEGIN:VEVENT
DTSTART;TZID=America/New_York:20240407T100000
DTEND;TZID=America/New_York:20240407T110000
DTSTAMP:20260424T055620
CREATED:20180123T020058Z
LAST-MODIFIED:20220911T161913Z
UID:10007279-1712484000-1712487600@emmanuelworship.org
SUMMARY:Morning Worship
DESCRIPTION:
URL:https://emmanuelworship.org/event/sunday-evening-worship/2024-04-07/
LOCATION:Emmanuel Church\, 231 Newton Street\, Keyser\, WV\, 26505\, United States
CATEGORIES:Morning Worship
ATTACH;FMTTYPE=image/jpeg:https://emmanuelworship.org/wp-content/uploads/2018/01/Cross-Sunset.jpg
GEO:39.4335179;-78.9869938
X-APPLE-STRUCTURED-LOCATION;VALUE=URI;X-ADDRESS=Emmanuel Church 231 Newton Street Keyser WV 26505 United States;X-APPLE-RADIUS=500;X-TITLE=231 Newton Street:geo:-78.9869938,39.4335179
END:VEVENT
BEGIN:VEVENT
DTSTART;TZID=America/New_York:20240403T180000
DTEND;TZID=America/New_York:20240403T190000
DTSTAMP:20260424T055620
CREATED:20210906T213649Z
LAST-MODIFIED:20220911T161157Z
UID:10006585-1712167200-1712170800@emmanuelworship.org
SUMMARY:Evening Bible Study
DESCRIPTION:
URL:https://emmanuelworship.org/event/evening-bible-study/2024-04-03/
LOCATION:Emmanuel Church\, 231 Newton Street\, Keyser\, WV\, 26505\, United States
ATTACH;FMTTYPE=image/jpeg:https://emmanuelworship.org/wp-content/uploads/2018/01/bibleStudy.jpg
GEO:39.4335179;-78.9869938
X-APPLE-STRUCTURED-LOCATION;VALUE=URI;X-ADDRESS=Emmanuel Church 231 Newton Street Keyser WV 26505 United States;X-APPLE-RADIUS=500;X-TITLE=231 Newton Street:geo:-78.9869938,39.4335179
END:VEVENT
BEGIN:VEVENT
DTSTART;TZID=America/New_York:20240401T100000
DTEND;TZID=America/New_York:20240401T110000
DTSTAMP:20260424T055620
CREATED:20180123T212953Z
LAST-MODIFIED:20220911T161059Z
UID:10006270-1711965600-1711969200@emmanuelworship.org
SUMMARY:Monday Morning Bible Study
DESCRIPTION:
URL:https://emmanuelworship.org/event/bible-study/2024-04-01/
LOCATION:Emmanuel Church\, 231 Newton Street\, Keyser\, WV\, 26505\, United States
ATTACH;FMTTYPE=image/jpeg:https://emmanuelworship.org/wp-content/uploads/2018/01/bibleStudy.jpg
GEO:39.4335179;-78.9869938
X-APPLE-STRUCTURED-LOCATION;VALUE=URI;X-ADDRESS=Emmanuel Church 231 Newton Street Keyser WV 26505 United States;X-APPLE-RADIUS=500;X-TITLE=231 Newton Street:geo:-78.9869938,39.4335179
END:VEVENT
BEGIN:VEVENT
DTSTART;TZID=America/New_York:20240331T100000
DTEND;TZID=America/New_York:20240331T110000
DTSTAMP:20260424T055620
CREATED:20180124T210748Z
LAST-MODIFIED:20220911T161016Z
UID:10005578-1711879200-1711882800@emmanuelworship.org
SUMMARY:Sunday School
DESCRIPTION:Children of all ages
URL:https://emmanuelworship.org/event/sunday-school/2024-03-31/
LOCATION:Emmanuel Church\, 231 Newton Street\, Keyser\, WV\, 26505\, United States
CATEGORIES:Sunday School
ATTACH;FMTTYPE=image/jpeg:https://emmanuelworship.org/wp-content/uploads/2018/03/SundaySchl.jpg
GEO:39.4335179;-78.9869938
X-APPLE-STRUCTURED-LOCATION;VALUE=URI;X-ADDRESS=Emmanuel Church 231 Newton Street Keyser WV 26505 United States;X-APPLE-RADIUS=500;X-TITLE=231 Newton Street:geo:-78.9869938,39.4335179
END:VEVENT
BEGIN:VEVENT
DTSTART;TZID=America/New_York:20240331T100000
DTEND;TZID=America/New_York:20240331T110000
DTSTAMP:20260424T055620
CREATED:20180123T020058Z
LAST-MODIFIED:20220911T161913Z
UID:10007278-1711879200-1711882800@emmanuelworship.org
SUMMARY:Morning Worship
DESCRIPTION:
URL:https://emmanuelworship.org/event/sunday-evening-worship/2024-03-31/
LOCATION:Emmanuel Church\, 231 Newton Street\, Keyser\, WV\, 26505\, United States
CATEGORIES:Morning Worship
ATTACH;FMTTYPE=image/jpeg:https://emmanuelworship.org/wp-content/uploads/2018/01/Cross-Sunset.jpg
GEO:39.4335179;-78.9869938
X-APPLE-STRUCTURED-LOCATION;VALUE=URI;X-ADDRESS=Emmanuel Church 231 Newton Street Keyser WV 26505 United States;X-APPLE-RADIUS=500;X-TITLE=231 Newton Street:geo:-78.9869938,39.4335179
END:VEVENT
BEGIN:VEVENT
DTSTART;TZID=America/New_York:20240327T180000
DTEND;TZID=America/New_York:20240327T190000
DTSTAMP:20260424T055620
CREATED:20210906T213649Z
LAST-MODIFIED:20220911T161157Z
UID:10006584-1711562400-1711566000@emmanuelworship.org
SUMMARY:Evening Bible Study
DESCRIPTION:
URL:https://emmanuelworship.org/event/evening-bible-study/2024-03-27/
LOCATION:Emmanuel Church\, 231 Newton Street\, Keyser\, WV\, 26505\, United States
ATTACH;FMTTYPE=image/jpeg:https://emmanuelworship.org/wp-content/uploads/2018/01/bibleStudy.jpg
GEO:39.4335179;-78.9869938
X-APPLE-STRUCTURED-LOCATION;VALUE=URI;X-ADDRESS=Emmanuel Church 231 Newton Street Keyser WV 26505 United States;X-APPLE-RADIUS=500;X-TITLE=231 Newton Street:geo:-78.9869938,39.4335179
END:VEVENT
BEGIN:VEVENT
DTSTART;TZID=America/New_York:20240325T100000
DTEND;TZID=America/New_York:20240325T110000
DTSTAMP:20260424T055620
CREATED:20180123T212953Z
LAST-MODIFIED:20220911T161059Z
UID:10006269-1711360800-1711364400@emmanuelworship.org
SUMMARY:Monday Morning Bible Study
DESCRIPTION:
URL:https://emmanuelworship.org/event/bible-study/2024-03-25/
LOCATION:Emmanuel Church\, 231 Newton Street\, Keyser\, WV\, 26505\, United States
ATTACH;FMTTYPE=image/jpeg:https://emmanuelworship.org/wp-content/uploads/2018/01/bibleStudy.jpg
GEO:39.4335179;-78.9869938
X-APPLE-STRUCTURED-LOCATION;VALUE=URI;X-ADDRESS=Emmanuel Church 231 Newton Street Keyser WV 26505 United States;X-APPLE-RADIUS=500;X-TITLE=231 Newton Street:geo:-78.9869938,39.4335179
END:VEVENT
BEGIN:VEVENT
DTSTART;TZID=America/New_York:20240324T100000
DTEND;TZID=America/New_York:20240324T110000
DTSTAMP:20260424T055620
CREATED:20180124T210748Z
LAST-MODIFIED:20220911T161016Z
UID:10005577-1711274400-1711278000@emmanuelworship.org
SUMMARY:Sunday School
DESCRIPTION:Children of all ages
URL:https://emmanuelworship.org/event/sunday-school/2024-03-24/
LOCATION:Emmanuel Church\, 231 Newton Street\, Keyser\, WV\, 26505\, United States
CATEGORIES:Sunday School
ATTACH;FMTTYPE=image/jpeg:https://emmanuelworship.org/wp-content/uploads/2018/03/SundaySchl.jpg
GEO:39.4335179;-78.9869938
X-APPLE-STRUCTURED-LOCATION;VALUE=URI;X-ADDRESS=Emmanuel Church 231 Newton Street Keyser WV 26505 United States;X-APPLE-RADIUS=500;X-TITLE=231 Newton Street:geo:-78.9869938,39.4335179
END:VEVENT
BEGIN:VEVENT
DTSTART;TZID=America/New_York:20240324T100000
DTEND;TZID=America/New_York:20240324T110000
DTSTAMP:20260424T055620
CREATED:20180123T020058Z
LAST-MODIFIED:20220911T161913Z
UID:10007277-1711274400-1711278000@emmanuelworship.org
SUMMARY:Morning Worship
DESCRIPTION:
URL:https://emmanuelworship.org/event/sunday-evening-worship/2024-03-24/
LOCATION:Emmanuel Church\, 231 Newton Street\, Keyser\, WV\, 26505\, United States
CATEGORIES:Morning Worship
ATTACH;FMTTYPE=image/jpeg:https://emmanuelworship.org/wp-content/uploads/2018/01/Cross-Sunset.jpg
GEO:39.4335179;-78.9869938
X-APPLE-STRUCTURED-LOCATION;VALUE=URI;X-ADDRESS=Emmanuel Church 231 Newton Street Keyser WV 26505 United States;X-APPLE-RADIUS=500;X-TITLE=231 Newton Street:geo:-78.9869938,39.4335179
END:VEVENT
BEGIN:VEVENT
DTSTART;TZID=America/New_York:20240320T180000
DTEND;TZID=America/New_York:20240320T190000
DTSTAMP:20260424T055620
CREATED:20210906T213649Z
LAST-MODIFIED:20220911T161157Z
UID:10006583-1710957600-1710961200@emmanuelworship.org
SUMMARY:Evening Bible Study
DESCRIPTION:
URL:https://emmanuelworship.org/event/evening-bible-study/2024-03-20/
LOCATION:Emmanuel Church\, 231 Newton Street\, Keyser\, WV\, 26505\, United States
ATTACH;FMTTYPE=image/jpeg:https://emmanuelworship.org/wp-content/uploads/2018/01/bibleStudy.jpg
GEO:39.4335179;-78.9869938
X-APPLE-STRUCTURED-LOCATION;VALUE=URI;X-ADDRESS=Emmanuel Church 231 Newton Street Keyser WV 26505 United States;X-APPLE-RADIUS=500;X-TITLE=231 Newton Street:geo:-78.9869938,39.4335179
END:VEVENT
BEGIN:VEVENT
DTSTART;TZID=America/New_York:20240318T100000
DTEND;TZID=America/New_York:20240318T110000
DTSTAMP:20260424T055620
CREATED:20180123T212953Z
LAST-MODIFIED:20220911T161059Z
UID:10006268-1710756000-1710759600@emmanuelworship.org
SUMMARY:Monday Morning Bible Study
DESCRIPTION:
URL:https://emmanuelworship.org/event/bible-study/2024-03-18/
LOCATION:Emmanuel Church\, 231 Newton Street\, Keyser\, WV\, 26505\, United States
ATTACH;FMTTYPE=image/jpeg:https://emmanuelworship.org/wp-content/uploads/2018/01/bibleStudy.jpg
GEO:39.4335179;-78.9869938
X-APPLE-STRUCTURED-LOCATION;VALUE=URI;X-ADDRESS=Emmanuel Church 231 Newton Street Keyser WV 26505 United States;X-APPLE-RADIUS=500;X-TITLE=231 Newton Street:geo:-78.9869938,39.4335179
END:VEVENT
BEGIN:VEVENT
DTSTART;TZID=America/New_York:20240317T140000
DTEND;TZID=America/New_York:20240317T150000
DTSTAMP:20260424T055620
CREATED:20210906T215201Z
LAST-MODIFIED:20220912T003031Z
UID:10007716-1710684000-1710687600@emmanuelworship.org
SUMMARY:Pastor's Community Prayer
DESCRIPTION:1st and 3rd Sunday Evenings
URL:https://emmanuelworship.org/event/pastors-community-prayer-2/2024-03-17/
LOCATION:WV
ATTACH;FMTTYPE=image/jpeg:https://emmanuelworship.org/wp-content/uploads/2021/09/pexels-shelagh-murphy-1666816.jpg
END:VEVENT
BEGIN:VEVENT
DTSTART;TZID=America/New_York:20240317T100000
DTEND;TZID=America/New_York:20240317T110000
DTSTAMP:20260424T055620
CREATED:20180124T210748Z
LAST-MODIFIED:20220911T161016Z
UID:10005576-1710669600-1710673200@emmanuelworship.org
SUMMARY:Sunday School
DESCRIPTION:Children of all ages
URL:https://emmanuelworship.org/event/sunday-school/2024-03-17/
LOCATION:Emmanuel Church\, 231 Newton Street\, Keyser\, WV\, 26505\, United States
CATEGORIES:Sunday School
ATTACH;FMTTYPE=image/jpeg:https://emmanuelworship.org/wp-content/uploads/2018/03/SundaySchl.jpg
GEO:39.4335179;-78.9869938
X-APPLE-STRUCTURED-LOCATION;VALUE=URI;X-ADDRESS=Emmanuel Church 231 Newton Street Keyser WV 26505 United States;X-APPLE-RADIUS=500;X-TITLE=231 Newton Street:geo:-78.9869938,39.4335179
END:VEVENT
BEGIN:VEVENT
DTSTART;TZID=America/New_York:20240317T100000
DTEND;TZID=America/New_York:20240317T110000
DTSTAMP:20260424T055620
CREATED:20180123T020058Z
LAST-MODIFIED:20220911T161913Z
UID:10007276-1710669600-1710673200@emmanuelworship.org
SUMMARY:Morning Worship
DESCRIPTION:
URL:https://emmanuelworship.org/event/sunday-evening-worship/2024-03-17/
LOCATION:Emmanuel Church\, 231 Newton Street\, Keyser\, WV\, 26505\, United States
CATEGORIES:Morning Worship
ATTACH;FMTTYPE=image/jpeg:https://emmanuelworship.org/wp-content/uploads/2018/01/Cross-Sunset.jpg
GEO:39.4335179;-78.9869938
X-APPLE-STRUCTURED-LOCATION;VALUE=URI;X-ADDRESS=Emmanuel Church 231 Newton Street Keyser WV 26505 United States;X-APPLE-RADIUS=500;X-TITLE=231 Newton Street:geo:-78.9869938,39.4335179
END:VEVENT
BEGIN:VEVENT
DTSTART;TZID=America/New_York:20240313T180000
DTEND;TZID=America/New_York:20240313T190000
DTSTAMP:20260424T055621
CREATED:20210906T213649Z
LAST-MODIFIED:20220911T161157Z
UID:10006582-1710352800-1710356400@emmanuelworship.org
SUMMARY:Evening Bible Study
DESCRIPTION:
URL:https://emmanuelworship.org/event/evening-bible-study/2024-03-13/
LOCATION:Emmanuel Church\, 231 Newton Street\, Keyser\, WV\, 26505\, United States
ATTACH;FMTTYPE=image/jpeg:https://emmanuelworship.org/wp-content/uploads/2018/01/bibleStudy.jpg
GEO:39.4335179;-78.9869938
X-APPLE-STRUCTURED-LOCATION;VALUE=URI;X-ADDRESS=Emmanuel Church 231 Newton Street Keyser WV 26505 United States;X-APPLE-RADIUS=500;X-TITLE=231 Newton Street:geo:-78.9869938,39.4335179
END:VEVENT
BEGIN:VEVENT
DTSTART;TZID=America/New_York:20240311T100000
DTEND;TZID=America/New_York:20240311T110000
DTSTAMP:20260424T055621
CREATED:20180123T212953Z
LAST-MODIFIED:20220911T161059Z
UID:10006267-1710151200-1710154800@emmanuelworship.org
SUMMARY:Monday Morning Bible Study
DESCRIPTION:
URL:https://emmanuelworship.org/event/bible-study/2024-03-11/
LOCATION:Emmanuel Church\, 231 Newton Street\, Keyser\, WV\, 26505\, United States
ATTACH;FMTTYPE=image/jpeg:https://emmanuelworship.org/wp-content/uploads/2018/01/bibleStudy.jpg
GEO:39.4335179;-78.9869938
X-APPLE-STRUCTURED-LOCATION;VALUE=URI;X-ADDRESS=Emmanuel Church 231 Newton Street Keyser WV 26505 United States;X-APPLE-RADIUS=500;X-TITLE=231 Newton Street:geo:-78.9869938,39.4335179
END:VEVENT
BEGIN:VEVENT
DTSTART;TZID=America/New_York:20240310T100000
DTEND;TZID=America/New_York:20240310T110000
DTSTAMP:20260424T055621
CREATED:20180124T210748Z
LAST-MODIFIED:20220911T161016Z
UID:10005575-1710064800-1710068400@emmanuelworship.org
SUMMARY:Sunday School
DESCRIPTION:Children of all ages
URL:https://emmanuelworship.org/event/sunday-school/2024-03-10/
LOCATION:Emmanuel Church\, 231 Newton Street\, Keyser\, WV\, 26505\, United States
CATEGORIES:Sunday School
ATTACH;FMTTYPE=image/jpeg:https://emmanuelworship.org/wp-content/uploads/2018/03/SundaySchl.jpg
GEO:39.4335179;-78.9869938
X-APPLE-STRUCTURED-LOCATION;VALUE=URI;X-ADDRESS=Emmanuel Church 231 Newton Street Keyser WV 26505 United States;X-APPLE-RADIUS=500;X-TITLE=231 Newton Street:geo:-78.9869938,39.4335179
END:VEVENT
BEGIN:VEVENT
DTSTART;TZID=America/New_York:20240310T100000
DTEND;TZID=America/New_York:20240310T110000
DTSTAMP:20260424T055621
CREATED:20180123T020058Z
LAST-MODIFIED:20220911T161913Z
UID:10007275-1710064800-1710068400@emmanuelworship.org
SUMMARY:Morning Worship
DESCRIPTION:
URL:https://emmanuelworship.org/event/sunday-evening-worship/2024-03-10/
LOCATION:Emmanuel Church\, 231 Newton Street\, Keyser\, WV\, 26505\, United States
CATEGORIES:Morning Worship
ATTACH;FMTTYPE=image/jpeg:https://emmanuelworship.org/wp-content/uploads/2018/01/Cross-Sunset.jpg
GEO:39.4335179;-78.9869938
X-APPLE-STRUCTURED-LOCATION;VALUE=URI;X-ADDRESS=Emmanuel Church 231 Newton Street Keyser WV 26505 United States;X-APPLE-RADIUS=500;X-TITLE=231 Newton Street:geo:-78.9869938,39.4335179
END:VEVENT
BEGIN:VEVENT
DTSTART;TZID=America/New_York:20240306T180000
DTEND;TZID=America/New_York:20240306T190000
DTSTAMP:20260424T055621
CREATED:20210906T213649Z
LAST-MODIFIED:20220911T161157Z
UID:10006581-1709748000-1709751600@emmanuelworship.org
SUMMARY:Evening Bible Study
DESCRIPTION:
URL:https://emmanuelworship.org/event/evening-bible-study/2024-03-06/
LOCATION:Emmanuel Church\, 231 Newton Street\, Keyser\, WV\, 26505\, United States
ATTACH;FMTTYPE=image/jpeg:https://emmanuelworship.org/wp-content/uploads/2018/01/bibleStudy.jpg
GEO:39.4335179;-78.9869938
X-APPLE-STRUCTURED-LOCATION;VALUE=URI;X-ADDRESS=Emmanuel Church 231 Newton Street Keyser WV 26505 United States;X-APPLE-RADIUS=500;X-TITLE=231 Newton Street:geo:-78.9869938,39.4335179
END:VEVENT
END:VCALENDAR