BEGIN:VCALENDAR
VERSION:2.0
PRODID:-//Emmanuel - ECPv6.15.20//NONSGML v1.0//EN
CALSCALE:GREGORIAN
METHOD:PUBLISH
X-WR-CALNAME:Emmanuel
X-ORIGINAL-URL:https://emmanuelworship.org
X-WR-CALDESC:Events for Emmanuel
REFRESH-INTERVAL;VALUE=DURATION:PT1H
X-Robots-Tag:noindex
X-PUBLISHED-TTL:PT1H
BEGIN:VTIMEZONE
TZID:America/New_York
BEGIN:DAYLIGHT
TZOFFSETFROM:-0500
TZOFFSETTO:-0400
TZNAME:EDT
DTSTART:20230312T070000
END:DAYLIGHT
BEGIN:STANDARD
TZOFFSETFROM:-0400
TZOFFSETTO:-0500
TZNAME:EST
DTSTART:20231105T060000
END:STANDARD
BEGIN:DAYLIGHT
TZOFFSETFROM:-0500
TZOFFSETTO:-0400
TZNAME:EDT
DTSTART:20240310T070000
END:DAYLIGHT
BEGIN:STANDARD
TZOFFSETFROM:-0400
TZOFFSETTO:-0500
TZNAME:EST
DTSTART:20241103T060000
END:STANDARD
BEGIN:DAYLIGHT
TZOFFSETFROM:-0500
TZOFFSETTO:-0400
TZNAME:EDT
DTSTART:20250309T070000
END:DAYLIGHT
BEGIN:STANDARD
TZOFFSETFROM:-0400
TZOFFSETTO:-0500
TZNAME:EST
DTSTART:20251102T060000
END:STANDARD
END:VTIMEZONE
BEGIN:VEVENT
DTSTART;TZID=America/New_York:20240909T100000
DTEND;TZID=America/New_York:20240909T110000
DTSTAMP:20260423T141441
CREATED:20180123T212953Z
LAST-MODIFIED:20220911T161059Z
UID:10006293-1725876000-1725879600@emmanuelworship.org
SUMMARY:Monday Morning Bible Study
DESCRIPTION:
URL:https://emmanuelworship.org/event/bible-study/2024-09-09/
LOCATION:Emmanuel Church\, 231 Newton Street\, Keyser\, WV\, 26505\, United States
ATTACH;FMTTYPE=image/jpeg:https://emmanuelworship.org/wp-content/uploads/2018/01/bibleStudy.jpg
GEO:39.4335179;-78.9869938
X-APPLE-STRUCTURED-LOCATION;VALUE=URI;X-ADDRESS=Emmanuel Church 231 Newton Street Keyser WV 26505 United States;X-APPLE-RADIUS=500;X-TITLE=231 Newton Street:geo:-78.9869938,39.4335179
END:VEVENT
BEGIN:VEVENT
DTSTART;TZID=America/New_York:20240908T100000
DTEND;TZID=America/New_York:20240908T110000
DTSTAMP:20260423T141441
CREATED:20180124T210748Z
LAST-MODIFIED:20220911T161016Z
UID:10005601-1725789600-1725793200@emmanuelworship.org
SUMMARY:Sunday School
DESCRIPTION:Children of all ages
URL:https://emmanuelworship.org/event/sunday-school/2024-09-08/
LOCATION:Emmanuel Church\, 231 Newton Street\, Keyser\, WV\, 26505\, United States
CATEGORIES:Sunday School
ATTACH;FMTTYPE=image/jpeg:https://emmanuelworship.org/wp-content/uploads/2018/03/SundaySchl.jpg
GEO:39.4335179;-78.9869938
X-APPLE-STRUCTURED-LOCATION;VALUE=URI;X-ADDRESS=Emmanuel Church 231 Newton Street Keyser WV 26505 United States;X-APPLE-RADIUS=500;X-TITLE=231 Newton Street:geo:-78.9869938,39.4335179
END:VEVENT
BEGIN:VEVENT
DTSTART;TZID=America/New_York:20240908T100000
DTEND;TZID=America/New_York:20240908T110000
DTSTAMP:20260423T141441
CREATED:20180123T020058Z
LAST-MODIFIED:20220911T161913Z
UID:10007301-1725789600-1725793200@emmanuelworship.org
SUMMARY:Morning Worship
DESCRIPTION:
URL:https://emmanuelworship.org/event/sunday-evening-worship/2024-09-08/
LOCATION:Emmanuel Church\, 231 Newton Street\, Keyser\, WV\, 26505\, United States
CATEGORIES:Morning Worship
ATTACH;FMTTYPE=image/jpeg:https://emmanuelworship.org/wp-content/uploads/2018/01/Cross-Sunset.jpg
GEO:39.4335179;-78.9869938
X-APPLE-STRUCTURED-LOCATION;VALUE=URI;X-ADDRESS=Emmanuel Church 231 Newton Street Keyser WV 26505 United States;X-APPLE-RADIUS=500;X-TITLE=231 Newton Street:geo:-78.9869938,39.4335179
END:VEVENT
BEGIN:VEVENT
DTSTART;TZID=America/New_York:20240904T180000
DTEND;TZID=America/New_York:20240904T190000
DTSTAMP:20260423T141441
CREATED:20210906T213649Z
LAST-MODIFIED:20220911T161157Z
UID:10006607-1725472800-1725476400@emmanuelworship.org
SUMMARY:Evening Bible Study
DESCRIPTION:
URL:https://emmanuelworship.org/event/evening-bible-study/2024-09-04/
LOCATION:Emmanuel Church\, 231 Newton Street\, Keyser\, WV\, 26505\, United States
ATTACH;FMTTYPE=image/jpeg:https://emmanuelworship.org/wp-content/uploads/2018/01/bibleStudy.jpg
GEO:39.4335179;-78.9869938
X-APPLE-STRUCTURED-LOCATION;VALUE=URI;X-ADDRESS=Emmanuel Church 231 Newton Street Keyser WV 26505 United States;X-APPLE-RADIUS=500;X-TITLE=231 Newton Street:geo:-78.9869938,39.4335179
END:VEVENT
BEGIN:VEVENT
DTSTART;TZID=America/New_York:20240902T100000
DTEND;TZID=America/New_York:20240902T110000
DTSTAMP:20260423T141441
CREATED:20180123T212953Z
LAST-MODIFIED:20220911T161059Z
UID:10006292-1725271200-1725274800@emmanuelworship.org
SUMMARY:Monday Morning Bible Study
DESCRIPTION:
URL:https://emmanuelworship.org/event/bible-study/2024-09-02/
LOCATION:Emmanuel Church\, 231 Newton Street\, Keyser\, WV\, 26505\, United States
ATTACH;FMTTYPE=image/jpeg:https://emmanuelworship.org/wp-content/uploads/2018/01/bibleStudy.jpg
GEO:39.4335179;-78.9869938
X-APPLE-STRUCTURED-LOCATION;VALUE=URI;X-ADDRESS=Emmanuel Church 231 Newton Street Keyser WV 26505 United States;X-APPLE-RADIUS=500;X-TITLE=231 Newton Street:geo:-78.9869938,39.4335179
END:VEVENT
BEGIN:VEVENT
DTSTART;TZID=America/New_York:20240901T140000
DTEND;TZID=America/New_York:20240901T150000
DTSTAMP:20260423T141441
CREATED:20210906T215158Z
LAST-MODIFIED:20220912T002914Z
UID:10007685-1725199200-1725202800@emmanuelworship.org
SUMMARY:Pastor's Community Prayer
DESCRIPTION:1st and 3rd Sunday Evenings
URL:https://emmanuelworship.org/event/pastors-community-prayer/2024-09-01/
ATTACH;FMTTYPE=image/jpeg:https://emmanuelworship.org/wp-content/uploads/2021/09/pexels-shelagh-murphy-1666816.jpg
END:VEVENT
BEGIN:VEVENT
DTSTART;TZID=America/New_York:20240901T100000
DTEND;TZID=America/New_York:20240901T110000
DTSTAMP:20260423T141441
CREATED:20180124T210748Z
LAST-MODIFIED:20220911T161016Z
UID:10005600-1725184800-1725188400@emmanuelworship.org
SUMMARY:Sunday School
DESCRIPTION:Children of all ages
URL:https://emmanuelworship.org/event/sunday-school/2024-09-01/
LOCATION:Emmanuel Church\, 231 Newton Street\, Keyser\, WV\, 26505\, United States
CATEGORIES:Sunday School
ATTACH;FMTTYPE=image/jpeg:https://emmanuelworship.org/wp-content/uploads/2018/03/SundaySchl.jpg
GEO:39.4335179;-78.9869938
X-APPLE-STRUCTURED-LOCATION;VALUE=URI;X-ADDRESS=Emmanuel Church 231 Newton Street Keyser WV 26505 United States;X-APPLE-RADIUS=500;X-TITLE=231 Newton Street:geo:-78.9869938,39.4335179
END:VEVENT
BEGIN:VEVENT
DTSTART;TZID=America/New_York:20240901T100000
DTEND;TZID=America/New_York:20240901T110000
DTSTAMP:20260423T141441
CREATED:20180123T020058Z
LAST-MODIFIED:20220911T161913Z
UID:10007300-1725184800-1725188400@emmanuelworship.org
SUMMARY:Morning Worship
DESCRIPTION:
URL:https://emmanuelworship.org/event/sunday-evening-worship/2024-09-01/
LOCATION:Emmanuel Church\, 231 Newton Street\, Keyser\, WV\, 26505\, United States
CATEGORIES:Morning Worship
ATTACH;FMTTYPE=image/jpeg:https://emmanuelworship.org/wp-content/uploads/2018/01/Cross-Sunset.jpg
GEO:39.4335179;-78.9869938
X-APPLE-STRUCTURED-LOCATION;VALUE=URI;X-ADDRESS=Emmanuel Church 231 Newton Street Keyser WV 26505 United States;X-APPLE-RADIUS=500;X-TITLE=231 Newton Street:geo:-78.9869938,39.4335179
END:VEVENT
BEGIN:VEVENT
DTSTART;TZID=America/New_York:20240828T180000
DTEND;TZID=America/New_York:20240828T190000
DTSTAMP:20260423T141441
CREATED:20210906T213649Z
LAST-MODIFIED:20220911T161157Z
UID:10006606-1724868000-1724871600@emmanuelworship.org
SUMMARY:Evening Bible Study
DESCRIPTION:
URL:https://emmanuelworship.org/event/evening-bible-study/2024-08-28/
LOCATION:Emmanuel Church\, 231 Newton Street\, Keyser\, WV\, 26505\, United States
ATTACH;FMTTYPE=image/jpeg:https://emmanuelworship.org/wp-content/uploads/2018/01/bibleStudy.jpg
GEO:39.4335179;-78.9869938
X-APPLE-STRUCTURED-LOCATION;VALUE=URI;X-ADDRESS=Emmanuel Church 231 Newton Street Keyser WV 26505 United States;X-APPLE-RADIUS=500;X-TITLE=231 Newton Street:geo:-78.9869938,39.4335179
END:VEVENT
BEGIN:VEVENT
DTSTART;TZID=America/New_York:20240826T100000
DTEND;TZID=America/New_York:20240826T110000
DTSTAMP:20260423T141441
CREATED:20180123T212953Z
LAST-MODIFIED:20220911T161059Z
UID:10006291-1724666400-1724670000@emmanuelworship.org
SUMMARY:Monday Morning Bible Study
DESCRIPTION:
URL:https://emmanuelworship.org/event/bible-study/2024-08-26/
LOCATION:Emmanuel Church\, 231 Newton Street\, Keyser\, WV\, 26505\, United States
ATTACH;FMTTYPE=image/jpeg:https://emmanuelworship.org/wp-content/uploads/2018/01/bibleStudy.jpg
GEO:39.4335179;-78.9869938
X-APPLE-STRUCTURED-LOCATION;VALUE=URI;X-ADDRESS=Emmanuel Church 231 Newton Street Keyser WV 26505 United States;X-APPLE-RADIUS=500;X-TITLE=231 Newton Street:geo:-78.9869938,39.4335179
END:VEVENT
BEGIN:VEVENT
DTSTART;TZID=America/New_York:20240825T100000
DTEND;TZID=America/New_York:20240825T110000
DTSTAMP:20260423T141441
CREATED:20180124T210748Z
LAST-MODIFIED:20220911T161016Z
UID:10005599-1724580000-1724583600@emmanuelworship.org
SUMMARY:Sunday School
DESCRIPTION:Children of all ages
URL:https://emmanuelworship.org/event/sunday-school/2024-08-25/
LOCATION:Emmanuel Church\, 231 Newton Street\, Keyser\, WV\, 26505\, United States
CATEGORIES:Sunday School
ATTACH;FMTTYPE=image/jpeg:https://emmanuelworship.org/wp-content/uploads/2018/03/SundaySchl.jpg
GEO:39.4335179;-78.9869938
X-APPLE-STRUCTURED-LOCATION;VALUE=URI;X-ADDRESS=Emmanuel Church 231 Newton Street Keyser WV 26505 United States;X-APPLE-RADIUS=500;X-TITLE=231 Newton Street:geo:-78.9869938,39.4335179
END:VEVENT
BEGIN:VEVENT
DTSTART;TZID=America/New_York:20240825T100000
DTEND;TZID=America/New_York:20240825T110000
DTSTAMP:20260423T141441
CREATED:20180123T020058Z
LAST-MODIFIED:20220911T161913Z
UID:10007299-1724580000-1724583600@emmanuelworship.org
SUMMARY:Morning Worship
DESCRIPTION:
URL:https://emmanuelworship.org/event/sunday-evening-worship/2024-08-25/
LOCATION:Emmanuel Church\, 231 Newton Street\, Keyser\, WV\, 26505\, United States
CATEGORIES:Morning Worship
ATTACH;FMTTYPE=image/jpeg:https://emmanuelworship.org/wp-content/uploads/2018/01/Cross-Sunset.jpg
GEO:39.4335179;-78.9869938
X-APPLE-STRUCTURED-LOCATION;VALUE=URI;X-ADDRESS=Emmanuel Church 231 Newton Street Keyser WV 26505 United States;X-APPLE-RADIUS=500;X-TITLE=231 Newton Street:geo:-78.9869938,39.4335179
END:VEVENT
BEGIN:VEVENT
DTSTART;TZID=America/New_York:20240821T180000
DTEND;TZID=America/New_York:20240821T190000
DTSTAMP:20260423T141441
CREATED:20210906T213649Z
LAST-MODIFIED:20220911T161157Z
UID:10006605-1724263200-1724266800@emmanuelworship.org
SUMMARY:Evening Bible Study
DESCRIPTION:
URL:https://emmanuelworship.org/event/evening-bible-study/2024-08-21/
LOCATION:Emmanuel Church\, 231 Newton Street\, Keyser\, WV\, 26505\, United States
ATTACH;FMTTYPE=image/jpeg:https://emmanuelworship.org/wp-content/uploads/2018/01/bibleStudy.jpg
GEO:39.4335179;-78.9869938
X-APPLE-STRUCTURED-LOCATION;VALUE=URI;X-ADDRESS=Emmanuel Church 231 Newton Street Keyser WV 26505 United States;X-APPLE-RADIUS=500;X-TITLE=231 Newton Street:geo:-78.9869938,39.4335179
END:VEVENT
BEGIN:VEVENT
DTSTART;TZID=America/New_York:20240819T100000
DTEND;TZID=America/New_York:20240819T110000
DTSTAMP:20260423T141441
CREATED:20180123T212953Z
LAST-MODIFIED:20220911T161059Z
UID:10006290-1724061600-1724065200@emmanuelworship.org
SUMMARY:Monday Morning Bible Study
DESCRIPTION:
URL:https://emmanuelworship.org/event/bible-study/2024-08-19/
LOCATION:Emmanuel Church\, 231 Newton Street\, Keyser\, WV\, 26505\, United States
ATTACH;FMTTYPE=image/jpeg:https://emmanuelworship.org/wp-content/uploads/2018/01/bibleStudy.jpg
GEO:39.4335179;-78.9869938
X-APPLE-STRUCTURED-LOCATION;VALUE=URI;X-ADDRESS=Emmanuel Church 231 Newton Street Keyser WV 26505 United States;X-APPLE-RADIUS=500;X-TITLE=231 Newton Street:geo:-78.9869938,39.4335179
END:VEVENT
BEGIN:VEVENT
DTSTART;TZID=America/New_York:20240818T140000
DTEND;TZID=America/New_York:20240818T150000
DTSTAMP:20260423T141441
CREATED:20210906T215201Z
LAST-MODIFIED:20220912T003031Z
UID:10007721-1723989600-1723993200@emmanuelworship.org
SUMMARY:Pastor's Community Prayer
DESCRIPTION:1st and 3rd Sunday Evenings
URL:https://emmanuelworship.org/event/pastors-community-prayer-2/2024-08-18/
ATTACH;FMTTYPE=image/jpeg:https://emmanuelworship.org/wp-content/uploads/2021/09/pexels-shelagh-murphy-1666816.jpg
END:VEVENT
BEGIN:VEVENT
DTSTART;TZID=America/New_York:20240818T100000
DTEND;TZID=America/New_York:20240818T110000
DTSTAMP:20260423T141441
CREATED:20180124T210748Z
LAST-MODIFIED:20220911T161016Z
UID:10005598-1723975200-1723978800@emmanuelworship.org
SUMMARY:Sunday School
DESCRIPTION:Children of all ages
URL:https://emmanuelworship.org/event/sunday-school/2024-08-18/
LOCATION:Emmanuel Church\, 231 Newton Street\, Keyser\, WV\, 26505\, United States
CATEGORIES:Sunday School
ATTACH;FMTTYPE=image/jpeg:https://emmanuelworship.org/wp-content/uploads/2018/03/SundaySchl.jpg
GEO:39.4335179;-78.9869938
X-APPLE-STRUCTURED-LOCATION;VALUE=URI;X-ADDRESS=Emmanuel Church 231 Newton Street Keyser WV 26505 United States;X-APPLE-RADIUS=500;X-TITLE=231 Newton Street:geo:-78.9869938,39.4335179
END:VEVENT
BEGIN:VEVENT
DTSTART;TZID=America/New_York:20240818T100000
DTEND;TZID=America/New_York:20240818T110000
DTSTAMP:20260423T141441
CREATED:20180123T020058Z
LAST-MODIFIED:20220911T161913Z
UID:10007298-1723975200-1723978800@emmanuelworship.org
SUMMARY:Morning Worship
DESCRIPTION:
URL:https://emmanuelworship.org/event/sunday-evening-worship/2024-08-18/
LOCATION:Emmanuel Church\, 231 Newton Street\, Keyser\, WV\, 26505\, United States
CATEGORIES:Morning Worship
ATTACH;FMTTYPE=image/jpeg:https://emmanuelworship.org/wp-content/uploads/2018/01/Cross-Sunset.jpg
GEO:39.4335179;-78.9869938
X-APPLE-STRUCTURED-LOCATION;VALUE=URI;X-ADDRESS=Emmanuel Church 231 Newton Street Keyser WV 26505 United States;X-APPLE-RADIUS=500;X-TITLE=231 Newton Street:geo:-78.9869938,39.4335179
END:VEVENT
BEGIN:VEVENT
DTSTART;TZID=America/New_York:20240814T180000
DTEND;TZID=America/New_York:20240814T190000
DTSTAMP:20260423T141441
CREATED:20210906T213649Z
LAST-MODIFIED:20220911T161157Z
UID:10006604-1723658400-1723662000@emmanuelworship.org
SUMMARY:Evening Bible Study
DESCRIPTION:
URL:https://emmanuelworship.org/event/evening-bible-study/2024-08-14/
LOCATION:Emmanuel Church\, 231 Newton Street\, Keyser\, WV\, 26505\, United States
ATTACH;FMTTYPE=image/jpeg:https://emmanuelworship.org/wp-content/uploads/2018/01/bibleStudy.jpg
GEO:39.4335179;-78.9869938
X-APPLE-STRUCTURED-LOCATION;VALUE=URI;X-ADDRESS=Emmanuel Church 231 Newton Street Keyser WV 26505 United States;X-APPLE-RADIUS=500;X-TITLE=231 Newton Street:geo:-78.9869938,39.4335179
END:VEVENT
BEGIN:VEVENT
DTSTART;TZID=America/New_York:20240812T100000
DTEND;TZID=America/New_York:20240812T110000
DTSTAMP:20260423T141441
CREATED:20180123T212953Z
LAST-MODIFIED:20220911T161059Z
UID:10006289-1723456800-1723460400@emmanuelworship.org
SUMMARY:Monday Morning Bible Study
DESCRIPTION:
URL:https://emmanuelworship.org/event/bible-study/2024-08-12/
LOCATION:Emmanuel Church\, 231 Newton Street\, Keyser\, WV\, 26505\, United States
ATTACH;FMTTYPE=image/jpeg:https://emmanuelworship.org/wp-content/uploads/2018/01/bibleStudy.jpg
GEO:39.4335179;-78.9869938
X-APPLE-STRUCTURED-LOCATION;VALUE=URI;X-ADDRESS=Emmanuel Church 231 Newton Street Keyser WV 26505 United States;X-APPLE-RADIUS=500;X-TITLE=231 Newton Street:geo:-78.9869938,39.4335179
END:VEVENT
BEGIN:VEVENT
DTSTART;TZID=America/New_York:20240811T100000
DTEND;TZID=America/New_York:20240811T110000
DTSTAMP:20260423T141441
CREATED:20180124T210748Z
LAST-MODIFIED:20220911T161016Z
UID:10005597-1723370400-1723374000@emmanuelworship.org
SUMMARY:Sunday School
DESCRIPTION:Children of all ages
URL:https://emmanuelworship.org/event/sunday-school/2024-08-11/
LOCATION:Emmanuel Church\, 231 Newton Street\, Keyser\, WV\, 26505\, United States
CATEGORIES:Sunday School
ATTACH;FMTTYPE=image/jpeg:https://emmanuelworship.org/wp-content/uploads/2018/03/SundaySchl.jpg
GEO:39.4335179;-78.9869938
X-APPLE-STRUCTURED-LOCATION;VALUE=URI;X-ADDRESS=Emmanuel Church 231 Newton Street Keyser WV 26505 United States;X-APPLE-RADIUS=500;X-TITLE=231 Newton Street:geo:-78.9869938,39.4335179
END:VEVENT
BEGIN:VEVENT
DTSTART;TZID=America/New_York:20240811T100000
DTEND;TZID=America/New_York:20240811T110000
DTSTAMP:20260423T141441
CREATED:20180123T020058Z
LAST-MODIFIED:20220911T161913Z
UID:10007297-1723370400-1723374000@emmanuelworship.org
SUMMARY:Morning Worship
DESCRIPTION:
URL:https://emmanuelworship.org/event/sunday-evening-worship/2024-08-11/
LOCATION:Emmanuel Church\, 231 Newton Street\, Keyser\, WV\, 26505\, United States
CATEGORIES:Morning Worship
ATTACH;FMTTYPE=image/jpeg:https://emmanuelworship.org/wp-content/uploads/2018/01/Cross-Sunset.jpg
GEO:39.4335179;-78.9869938
X-APPLE-STRUCTURED-LOCATION;VALUE=URI;X-ADDRESS=Emmanuel Church 231 Newton Street Keyser WV 26505 United States;X-APPLE-RADIUS=500;X-TITLE=231 Newton Street:geo:-78.9869938,39.4335179
END:VEVENT
BEGIN:VEVENT
DTSTART;TZID=America/New_York:20240807T180000
DTEND;TZID=America/New_York:20240807T190000
DTSTAMP:20260423T141441
CREATED:20210906T213649Z
LAST-MODIFIED:20220911T161157Z
UID:10006603-1723053600-1723057200@emmanuelworship.org
SUMMARY:Evening Bible Study
DESCRIPTION:
URL:https://emmanuelworship.org/event/evening-bible-study/2024-08-07/
LOCATION:Emmanuel Church\, 231 Newton Street\, Keyser\, WV\, 26505\, United States
ATTACH;FMTTYPE=image/jpeg:https://emmanuelworship.org/wp-content/uploads/2018/01/bibleStudy.jpg
GEO:39.4335179;-78.9869938
X-APPLE-STRUCTURED-LOCATION;VALUE=URI;X-ADDRESS=Emmanuel Church 231 Newton Street Keyser WV 26505 United States;X-APPLE-RADIUS=500;X-TITLE=231 Newton Street:geo:-78.9869938,39.4335179
END:VEVENT
BEGIN:VEVENT
DTSTART;TZID=America/New_York:20240805T100000
DTEND;TZID=America/New_York:20240805T110000
DTSTAMP:20260423T141441
CREATED:20180123T212953Z
LAST-MODIFIED:20220911T161059Z
UID:10006288-1722852000-1722855600@emmanuelworship.org
SUMMARY:Monday Morning Bible Study
DESCRIPTION:
URL:https://emmanuelworship.org/event/bible-study/2024-08-05/
LOCATION:Emmanuel Church\, 231 Newton Street\, Keyser\, WV\, 26505\, United States
ATTACH;FMTTYPE=image/jpeg:https://emmanuelworship.org/wp-content/uploads/2018/01/bibleStudy.jpg
GEO:39.4335179;-78.9869938
X-APPLE-STRUCTURED-LOCATION;VALUE=URI;X-ADDRESS=Emmanuel Church 231 Newton Street Keyser WV 26505 United States;X-APPLE-RADIUS=500;X-TITLE=231 Newton Street:geo:-78.9869938,39.4335179
END:VEVENT
BEGIN:VEVENT
DTSTART;TZID=America/New_York:20240804T140000
DTEND;TZID=America/New_York:20240804T150000
DTSTAMP:20260423T141441
CREATED:20210906T215158Z
LAST-MODIFIED:20220912T002914Z
UID:10007684-1722780000-1722783600@emmanuelworship.org
SUMMARY:Pastor's Community Prayer
DESCRIPTION:1st and 3rd Sunday Evenings
URL:https://emmanuelworship.org/event/pastors-community-prayer/2024-08-04/
ATTACH;FMTTYPE=image/jpeg:https://emmanuelworship.org/wp-content/uploads/2021/09/pexels-shelagh-murphy-1666816.jpg
END:VEVENT
BEGIN:VEVENT
DTSTART;TZID=America/New_York:20240804T100000
DTEND;TZID=America/New_York:20240804T110000
DTSTAMP:20260423T141441
CREATED:20180124T210748Z
LAST-MODIFIED:20220911T161016Z
UID:10005596-1722765600-1722769200@emmanuelworship.org
SUMMARY:Sunday School
DESCRIPTION:Children of all ages
URL:https://emmanuelworship.org/event/sunday-school/2024-08-04/
LOCATION:Emmanuel Church\, 231 Newton Street\, Keyser\, WV\, 26505\, United States
CATEGORIES:Sunday School
ATTACH;FMTTYPE=image/jpeg:https://emmanuelworship.org/wp-content/uploads/2018/03/SundaySchl.jpg
GEO:39.4335179;-78.9869938
X-APPLE-STRUCTURED-LOCATION;VALUE=URI;X-ADDRESS=Emmanuel Church 231 Newton Street Keyser WV 26505 United States;X-APPLE-RADIUS=500;X-TITLE=231 Newton Street:geo:-78.9869938,39.4335179
END:VEVENT
BEGIN:VEVENT
DTSTART;TZID=America/New_York:20240804T100000
DTEND;TZID=America/New_York:20240804T110000
DTSTAMP:20260423T141441
CREATED:20180123T020058Z
LAST-MODIFIED:20220911T161913Z
UID:10007296-1722765600-1722769200@emmanuelworship.org
SUMMARY:Morning Worship
DESCRIPTION:
URL:https://emmanuelworship.org/event/sunday-evening-worship/2024-08-04/
LOCATION:Emmanuel Church\, 231 Newton Street\, Keyser\, WV\, 26505\, United States
CATEGORIES:Morning Worship
ATTACH;FMTTYPE=image/jpeg:https://emmanuelworship.org/wp-content/uploads/2018/01/Cross-Sunset.jpg
GEO:39.4335179;-78.9869938
X-APPLE-STRUCTURED-LOCATION;VALUE=URI;X-ADDRESS=Emmanuel Church 231 Newton Street Keyser WV 26505 United States;X-APPLE-RADIUS=500;X-TITLE=231 Newton Street:geo:-78.9869938,39.4335179
END:VEVENT
BEGIN:VEVENT
DTSTART;TZID=America/New_York:20240731T180000
DTEND;TZID=America/New_York:20240731T190000
DTSTAMP:20260423T141441
CREATED:20210906T213649Z
LAST-MODIFIED:20220911T161157Z
UID:10006602-1722448800-1722452400@emmanuelworship.org
SUMMARY:Evening Bible Study
DESCRIPTION:
URL:https://emmanuelworship.org/event/evening-bible-study/2024-07-31/
LOCATION:Emmanuel Church\, 231 Newton Street\, Keyser\, WV\, 26505\, United States
ATTACH;FMTTYPE=image/jpeg:https://emmanuelworship.org/wp-content/uploads/2018/01/bibleStudy.jpg
GEO:39.4335179;-78.9869938
X-APPLE-STRUCTURED-LOCATION;VALUE=URI;X-ADDRESS=Emmanuel Church 231 Newton Street Keyser WV 26505 United States;X-APPLE-RADIUS=500;X-TITLE=231 Newton Street:geo:-78.9869938,39.4335179
END:VEVENT
BEGIN:VEVENT
DTSTART;TZID=America/New_York:20240729T100000
DTEND;TZID=America/New_York:20240729T110000
DTSTAMP:20260423T141441
CREATED:20180123T212953Z
LAST-MODIFIED:20220911T161059Z
UID:10006287-1722247200-1722250800@emmanuelworship.org
SUMMARY:Monday Morning Bible Study
DESCRIPTION:
URL:https://emmanuelworship.org/event/bible-study/2024-07-29/
LOCATION:Emmanuel Church\, 231 Newton Street\, Keyser\, WV\, 26505\, United States
ATTACH;FMTTYPE=image/jpeg:https://emmanuelworship.org/wp-content/uploads/2018/01/bibleStudy.jpg
GEO:39.4335179;-78.9869938
X-APPLE-STRUCTURED-LOCATION;VALUE=URI;X-ADDRESS=Emmanuel Church 231 Newton Street Keyser WV 26505 United States;X-APPLE-RADIUS=500;X-TITLE=231 Newton Street:geo:-78.9869938,39.4335179
END:VEVENT
BEGIN:VEVENT
DTSTART;TZID=America/New_York:20240728T100000
DTEND;TZID=America/New_York:20240728T110000
DTSTAMP:20260423T141441
CREATED:20180124T210748Z
LAST-MODIFIED:20220911T161016Z
UID:10005595-1722160800-1722164400@emmanuelworship.org
SUMMARY:Sunday School
DESCRIPTION:Children of all ages
URL:https://emmanuelworship.org/event/sunday-school/2024-07-28/
LOCATION:Emmanuel Church\, 231 Newton Street\, Keyser\, WV\, 26505\, United States
CATEGORIES:Sunday School
ATTACH;FMTTYPE=image/jpeg:https://emmanuelworship.org/wp-content/uploads/2018/03/SundaySchl.jpg
GEO:39.4335179;-78.9869938
X-APPLE-STRUCTURED-LOCATION;VALUE=URI;X-ADDRESS=Emmanuel Church 231 Newton Street Keyser WV 26505 United States;X-APPLE-RADIUS=500;X-TITLE=231 Newton Street:geo:-78.9869938,39.4335179
END:VEVENT
BEGIN:VEVENT
DTSTART;TZID=America/New_York:20240728T100000
DTEND;TZID=America/New_York:20240728T110000
DTSTAMP:20260423T141441
CREATED:20180123T020058Z
LAST-MODIFIED:20220911T161913Z
UID:10007295-1722160800-1722164400@emmanuelworship.org
SUMMARY:Morning Worship
DESCRIPTION:
URL:https://emmanuelworship.org/event/sunday-evening-worship/2024-07-28/
LOCATION:Emmanuel Church\, 231 Newton Street\, Keyser\, WV\, 26505\, United States
CATEGORIES:Morning Worship
ATTACH;FMTTYPE=image/jpeg:https://emmanuelworship.org/wp-content/uploads/2018/01/Cross-Sunset.jpg
GEO:39.4335179;-78.9869938
X-APPLE-STRUCTURED-LOCATION;VALUE=URI;X-ADDRESS=Emmanuel Church 231 Newton Street Keyser WV 26505 United States;X-APPLE-RADIUS=500;X-TITLE=231 Newton Street:geo:-78.9869938,39.4335179
END:VEVENT
END:VCALENDAR