BEGIN:VCALENDAR
VERSION:2.0
PRODID:-//Emmanuel - ECPv6.15.20//NONSGML v1.0//EN
CALSCALE:GREGORIAN
METHOD:PUBLISH
X-WR-CALNAME:Emmanuel
X-ORIGINAL-URL:https://emmanuelworship.org
X-WR-CALDESC:Events for Emmanuel
REFRESH-INTERVAL;VALUE=DURATION:PT1H
X-Robots-Tag:noindex
X-PUBLISHED-TTL:PT1H
BEGIN:VTIMEZONE
TZID:America/New_York
BEGIN:DAYLIGHT
TZOFFSETFROM:-0500
TZOFFSETTO:-0400
TZNAME:EDT
DTSTART:20220313T070000
END:DAYLIGHT
BEGIN:STANDARD
TZOFFSETFROM:-0400
TZOFFSETTO:-0500
TZNAME:EST
DTSTART:20221106T060000
END:STANDARD
BEGIN:DAYLIGHT
TZOFFSETFROM:-0500
TZOFFSETTO:-0400
TZNAME:EDT
DTSTART:20230312T070000
END:DAYLIGHT
BEGIN:STANDARD
TZOFFSETFROM:-0400
TZOFFSETTO:-0500
TZNAME:EST
DTSTART:20231105T060000
END:STANDARD
BEGIN:DAYLIGHT
TZOFFSETFROM:-0500
TZOFFSETTO:-0400
TZNAME:EDT
DTSTART:20240310T070000
END:DAYLIGHT
BEGIN:STANDARD
TZOFFSETFROM:-0400
TZOFFSETTO:-0500
TZNAME:EST
DTSTART:20241103T060000
END:STANDARD
BEGIN:DAYLIGHT
TZOFFSETFROM:-0500
TZOFFSETTO:-0400
TZNAME:EDT
DTSTART:20250309T070000
END:DAYLIGHT
BEGIN:STANDARD
TZOFFSETFROM:-0400
TZOFFSETTO:-0500
TZNAME:EST
DTSTART:20251102T060000
END:STANDARD
END:VTIMEZONE
BEGIN:VEVENT
DTSTART;TZID=America/New_York:20240211T100000
DTEND;TZID=America/New_York:20240211T110000
DTSTAMP:20260423T221633
CREATED:20180124T210748Z
LAST-MODIFIED:20220911T161016Z
UID:10005571-1707645600-1707649200@emmanuelworship.org
SUMMARY:Sunday School
DESCRIPTION:Children of all ages
URL:https://emmanuelworship.org/event/sunday-school/2024-02-11/
LOCATION:Emmanuel Church\, 231 Newton Street\, Keyser\, WV\, 26505\, United States
CATEGORIES:Sunday School
ATTACH;FMTTYPE=image/jpeg:https://emmanuelworship.org/wp-content/uploads/2018/03/SundaySchl.jpg
GEO:39.4335179;-78.9869938
X-APPLE-STRUCTURED-LOCATION;VALUE=URI;X-ADDRESS=Emmanuel Church 231 Newton Street Keyser WV 26505 United States;X-APPLE-RADIUS=500;X-TITLE=231 Newton Street:geo:-78.9869938,39.4335179
END:VEVENT
BEGIN:VEVENT
DTSTART;TZID=America/New_York:20240204T100000
DTEND;TZID=America/New_York:20240204T110000
DTSTAMP:20260423T221633
CREATED:20180124T210748Z
LAST-MODIFIED:20220911T161016Z
UID:10005570-1707040800-1707044400@emmanuelworship.org
SUMMARY:Sunday School
DESCRIPTION:Children of all ages
URL:https://emmanuelworship.org/event/sunday-school/2024-02-04/
LOCATION:Emmanuel Church\, 231 Newton Street\, Keyser\, WV\, 26505\, United States
CATEGORIES:Sunday School
ATTACH;FMTTYPE=image/jpeg:https://emmanuelworship.org/wp-content/uploads/2018/03/SundaySchl.jpg
GEO:39.4335179;-78.9869938
X-APPLE-STRUCTURED-LOCATION;VALUE=URI;X-ADDRESS=Emmanuel Church 231 Newton Street Keyser WV 26505 United States;X-APPLE-RADIUS=500;X-TITLE=231 Newton Street:geo:-78.9869938,39.4335179
END:VEVENT
BEGIN:VEVENT
DTSTART;TZID=America/New_York:20240128T100000
DTEND;TZID=America/New_York:20240128T110000
DTSTAMP:20260423T221633
CREATED:20180124T210748Z
LAST-MODIFIED:20220911T161016Z
UID:10005569-1706436000-1706439600@emmanuelworship.org
SUMMARY:Sunday School
DESCRIPTION:Children of all ages
URL:https://emmanuelworship.org/event/sunday-school/2024-01-28/
LOCATION:Emmanuel Church\, 231 Newton Street\, Keyser\, WV\, 26505\, United States
CATEGORIES:Sunday School
ATTACH;FMTTYPE=image/jpeg:https://emmanuelworship.org/wp-content/uploads/2018/03/SundaySchl.jpg
GEO:39.4335179;-78.9869938
X-APPLE-STRUCTURED-LOCATION;VALUE=URI;X-ADDRESS=Emmanuel Church 231 Newton Street Keyser WV 26505 United States;X-APPLE-RADIUS=500;X-TITLE=231 Newton Street:geo:-78.9869938,39.4335179
END:VEVENT
BEGIN:VEVENT
DTSTART;TZID=America/New_York:20240121T100000
DTEND;TZID=America/New_York:20240121T110000
DTSTAMP:20260423T221633
CREATED:20180124T210748Z
LAST-MODIFIED:20220911T161016Z
UID:10005568-1705831200-1705834800@emmanuelworship.org
SUMMARY:Sunday School
DESCRIPTION:Children of all ages
URL:https://emmanuelworship.org/event/sunday-school/2024-01-21/
LOCATION:Emmanuel Church\, 231 Newton Street\, Keyser\, WV\, 26505\, United States
CATEGORIES:Sunday School
ATTACH;FMTTYPE=image/jpeg:https://emmanuelworship.org/wp-content/uploads/2018/03/SundaySchl.jpg
GEO:39.4335179;-78.9869938
X-APPLE-STRUCTURED-LOCATION;VALUE=URI;X-ADDRESS=Emmanuel Church 231 Newton Street Keyser WV 26505 United States;X-APPLE-RADIUS=500;X-TITLE=231 Newton Street:geo:-78.9869938,39.4335179
END:VEVENT
BEGIN:VEVENT
DTSTART;TZID=America/New_York:20240114T100000
DTEND;TZID=America/New_York:20240114T110000
DTSTAMP:20260423T221633
CREATED:20180124T210748Z
LAST-MODIFIED:20220911T161016Z
UID:10005567-1705226400-1705230000@emmanuelworship.org
SUMMARY:Sunday School
DESCRIPTION:Children of all ages
URL:https://emmanuelworship.org/event/sunday-school/2024-01-14/
LOCATION:Emmanuel Church\, 231 Newton Street\, Keyser\, WV\, 26505\, United States
CATEGORIES:Sunday School
ATTACH;FMTTYPE=image/jpeg:https://emmanuelworship.org/wp-content/uploads/2018/03/SundaySchl.jpg
GEO:39.4335179;-78.9869938
X-APPLE-STRUCTURED-LOCATION;VALUE=URI;X-ADDRESS=Emmanuel Church 231 Newton Street Keyser WV 26505 United States;X-APPLE-RADIUS=500;X-TITLE=231 Newton Street:geo:-78.9869938,39.4335179
END:VEVENT
BEGIN:VEVENT
DTSTART;TZID=America/New_York:20240107T100000
DTEND;TZID=America/New_York:20240107T110000
DTSTAMP:20260423T221633
CREATED:20180124T210748Z
LAST-MODIFIED:20220911T161016Z
UID:10005566-1704621600-1704625200@emmanuelworship.org
SUMMARY:Sunday School
DESCRIPTION:Children of all ages
URL:https://emmanuelworship.org/event/sunday-school/2024-01-07/
LOCATION:Emmanuel Church\, 231 Newton Street\, Keyser\, WV\, 26505\, United States
CATEGORIES:Sunday School
ATTACH;FMTTYPE=image/jpeg:https://emmanuelworship.org/wp-content/uploads/2018/03/SundaySchl.jpg
GEO:39.4335179;-78.9869938
X-APPLE-STRUCTURED-LOCATION;VALUE=URI;X-ADDRESS=Emmanuel Church 231 Newton Street Keyser WV 26505 United States;X-APPLE-RADIUS=500;X-TITLE=231 Newton Street:geo:-78.9869938,39.4335179
END:VEVENT
BEGIN:VEVENT
DTSTART;TZID=America/New_York:20231231T100000
DTEND;TZID=America/New_York:20231231T110000
DTSTAMP:20260423T221633
CREATED:20180124T210748Z
LAST-MODIFIED:20220911T161016Z
UID:10005565-1704016800-1704020400@emmanuelworship.org
SUMMARY:Sunday School
DESCRIPTION:Children of all ages
URL:https://emmanuelworship.org/event/sunday-school/2023-12-31/
LOCATION:Emmanuel Church\, 231 Newton Street\, Keyser\, WV\, 26505\, United States
CATEGORIES:Sunday School
ATTACH;FMTTYPE=image/jpeg:https://emmanuelworship.org/wp-content/uploads/2018/03/SundaySchl.jpg
GEO:39.4335179;-78.9869938
X-APPLE-STRUCTURED-LOCATION;VALUE=URI;X-ADDRESS=Emmanuel Church 231 Newton Street Keyser WV 26505 United States;X-APPLE-RADIUS=500;X-TITLE=231 Newton Street:geo:-78.9869938,39.4335179
END:VEVENT
BEGIN:VEVENT
DTSTART;TZID=America/New_York:20231224T100000
DTEND;TZID=America/New_York:20231224T110000
DTSTAMP:20260423T221633
CREATED:20180124T210748Z
LAST-MODIFIED:20220911T161016Z
UID:10005564-1703412000-1703415600@emmanuelworship.org
SUMMARY:Sunday School
DESCRIPTION:Children of all ages
URL:https://emmanuelworship.org/event/sunday-school/2023-12-24/
LOCATION:Emmanuel Church\, 231 Newton Street\, Keyser\, WV\, 26505\, United States
CATEGORIES:Sunday School
ATTACH;FMTTYPE=image/jpeg:https://emmanuelworship.org/wp-content/uploads/2018/03/SundaySchl.jpg
GEO:39.4335179;-78.9869938
X-APPLE-STRUCTURED-LOCATION;VALUE=URI;X-ADDRESS=Emmanuel Church 231 Newton Street Keyser WV 26505 United States;X-APPLE-RADIUS=500;X-TITLE=231 Newton Street:geo:-78.9869938,39.4335179
END:VEVENT
BEGIN:VEVENT
DTSTART;TZID=America/New_York:20231217T100000
DTEND;TZID=America/New_York:20231217T110000
DTSTAMP:20260423T221633
CREATED:20180124T210748Z
LAST-MODIFIED:20220911T161016Z
UID:10005563-1702807200-1702810800@emmanuelworship.org
SUMMARY:Sunday School
DESCRIPTION:Children of all ages
URL:https://emmanuelworship.org/event/sunday-school/2023-12-17/
LOCATION:Emmanuel Church\, 231 Newton Street\, Keyser\, WV\, 26505\, United States
CATEGORIES:Sunday School
ATTACH;FMTTYPE=image/jpeg:https://emmanuelworship.org/wp-content/uploads/2018/03/SundaySchl.jpg
GEO:39.4335179;-78.9869938
X-APPLE-STRUCTURED-LOCATION;VALUE=URI;X-ADDRESS=Emmanuel Church 231 Newton Street Keyser WV 26505 United States;X-APPLE-RADIUS=500;X-TITLE=231 Newton Street:geo:-78.9869938,39.4335179
END:VEVENT
BEGIN:VEVENT
DTSTART;TZID=America/New_York:20231210T100000
DTEND;TZID=America/New_York:20231210T110000
DTSTAMP:20260423T221633
CREATED:20180124T210748Z
LAST-MODIFIED:20220911T161016Z
UID:10005562-1702202400-1702206000@emmanuelworship.org
SUMMARY:Sunday School
DESCRIPTION:Children of all ages
URL:https://emmanuelworship.org/event/sunday-school/2023-12-10/
LOCATION:Emmanuel Church\, 231 Newton Street\, Keyser\, WV\, 26505\, United States
CATEGORIES:Sunday School
ATTACH;FMTTYPE=image/jpeg:https://emmanuelworship.org/wp-content/uploads/2018/03/SundaySchl.jpg
GEO:39.4335179;-78.9869938
X-APPLE-STRUCTURED-LOCATION;VALUE=URI;X-ADDRESS=Emmanuel Church 231 Newton Street Keyser WV 26505 United States;X-APPLE-RADIUS=500;X-TITLE=231 Newton Street:geo:-78.9869938,39.4335179
END:VEVENT
BEGIN:VEVENT
DTSTART;TZID=America/New_York:20231203T100000
DTEND;TZID=America/New_York:20231203T110000
DTSTAMP:20260423T221633
CREATED:20180124T210748Z
LAST-MODIFIED:20220911T161016Z
UID:10005561-1701597600-1701601200@emmanuelworship.org
SUMMARY:Sunday School
DESCRIPTION:Children of all ages
URL:https://emmanuelworship.org/event/sunday-school/2023-12-03/
LOCATION:Emmanuel Church\, 231 Newton Street\, Keyser\, WV\, 26505\, United States
CATEGORIES:Sunday School
ATTACH;FMTTYPE=image/jpeg:https://emmanuelworship.org/wp-content/uploads/2018/03/SundaySchl.jpg
GEO:39.4335179;-78.9869938
X-APPLE-STRUCTURED-LOCATION;VALUE=URI;X-ADDRESS=Emmanuel Church 231 Newton Street Keyser WV 26505 United States;X-APPLE-RADIUS=500;X-TITLE=231 Newton Street:geo:-78.9869938,39.4335179
END:VEVENT
BEGIN:VEVENT
DTSTART;TZID=America/New_York:20231126T100000
DTEND;TZID=America/New_York:20231126T110000
DTSTAMP:20260423T221633
CREATED:20180124T210748Z
LAST-MODIFIED:20220911T161016Z
UID:10005560-1700992800-1700996400@emmanuelworship.org
SUMMARY:Sunday School
DESCRIPTION:Children of all ages
URL:https://emmanuelworship.org/event/sunday-school/2023-11-26/
LOCATION:Emmanuel Church\, 231 Newton Street\, Keyser\, WV\, 26505\, United States
CATEGORIES:Sunday School
ATTACH;FMTTYPE=image/jpeg:https://emmanuelworship.org/wp-content/uploads/2018/03/SundaySchl.jpg
GEO:39.4335179;-78.9869938
X-APPLE-STRUCTURED-LOCATION;VALUE=URI;X-ADDRESS=Emmanuel Church 231 Newton Street Keyser WV 26505 United States;X-APPLE-RADIUS=500;X-TITLE=231 Newton Street:geo:-78.9869938,39.4335179
END:VEVENT
BEGIN:VEVENT
DTSTART;TZID=America/New_York:20231119T100000
DTEND;TZID=America/New_York:20231119T110000
DTSTAMP:20260423T221633
CREATED:20180124T210748Z
LAST-MODIFIED:20220911T161016Z
UID:10005559-1700388000-1700391600@emmanuelworship.org
SUMMARY:Sunday School
DESCRIPTION:Children of all ages
URL:https://emmanuelworship.org/event/sunday-school/2023-11-19/
LOCATION:Emmanuel Church\, 231 Newton Street\, Keyser\, WV\, 26505\, United States
CATEGORIES:Sunday School
ATTACH;FMTTYPE=image/jpeg:https://emmanuelworship.org/wp-content/uploads/2018/03/SundaySchl.jpg
GEO:39.4335179;-78.9869938
X-APPLE-STRUCTURED-LOCATION;VALUE=URI;X-ADDRESS=Emmanuel Church 231 Newton Street Keyser WV 26505 United States;X-APPLE-RADIUS=500;X-TITLE=231 Newton Street:geo:-78.9869938,39.4335179
END:VEVENT
BEGIN:VEVENT
DTSTART;TZID=America/New_York:20231112T100000
DTEND;TZID=America/New_York:20231112T110000
DTSTAMP:20260423T221633
CREATED:20180124T210748Z
LAST-MODIFIED:20220911T161016Z
UID:10005558-1699783200-1699786800@emmanuelworship.org
SUMMARY:Sunday School
DESCRIPTION:Children of all ages
URL:https://emmanuelworship.org/event/sunday-school/2023-11-12/
LOCATION:Emmanuel Church\, 231 Newton Street\, Keyser\, WV\, 26505\, United States
CATEGORIES:Sunday School
ATTACH;FMTTYPE=image/jpeg:https://emmanuelworship.org/wp-content/uploads/2018/03/SundaySchl.jpg
GEO:39.4335179;-78.9869938
X-APPLE-STRUCTURED-LOCATION;VALUE=URI;X-ADDRESS=Emmanuel Church 231 Newton Street Keyser WV 26505 United States;X-APPLE-RADIUS=500;X-TITLE=231 Newton Street:geo:-78.9869938,39.4335179
END:VEVENT
BEGIN:VEVENT
DTSTART;TZID=America/New_York:20231105T100000
DTEND;TZID=America/New_York:20231105T110000
DTSTAMP:20260423T221633
CREATED:20180124T210748Z
LAST-MODIFIED:20220911T161016Z
UID:10005557-1699178400-1699182000@emmanuelworship.org
SUMMARY:Sunday School
DESCRIPTION:Children of all ages
URL:https://emmanuelworship.org/event/sunday-school/2023-11-05/
LOCATION:Emmanuel Church\, 231 Newton Street\, Keyser\, WV\, 26505\, United States
CATEGORIES:Sunday School
ATTACH;FMTTYPE=image/jpeg:https://emmanuelworship.org/wp-content/uploads/2018/03/SundaySchl.jpg
GEO:39.4335179;-78.9869938
X-APPLE-STRUCTURED-LOCATION;VALUE=URI;X-ADDRESS=Emmanuel Church 231 Newton Street Keyser WV 26505 United States;X-APPLE-RADIUS=500;X-TITLE=231 Newton Street:geo:-78.9869938,39.4335179
END:VEVENT
BEGIN:VEVENT
DTSTART;TZID=America/New_York:20231029T100000
DTEND;TZID=America/New_York:20231029T110000
DTSTAMP:20260423T221633
CREATED:20180124T210748Z
LAST-MODIFIED:20220911T161016Z
UID:10005556-1698573600-1698577200@emmanuelworship.org
SUMMARY:Sunday School
DESCRIPTION:Children of all ages
URL:https://emmanuelworship.org/event/sunday-school/2023-10-29/
LOCATION:Emmanuel Church\, 231 Newton Street\, Keyser\, WV\, 26505\, United States
CATEGORIES:Sunday School
ATTACH;FMTTYPE=image/jpeg:https://emmanuelworship.org/wp-content/uploads/2018/03/SundaySchl.jpg
GEO:39.4335179;-78.9869938
X-APPLE-STRUCTURED-LOCATION;VALUE=URI;X-ADDRESS=Emmanuel Church 231 Newton Street Keyser WV 26505 United States;X-APPLE-RADIUS=500;X-TITLE=231 Newton Street:geo:-78.9869938,39.4335179
END:VEVENT
BEGIN:VEVENT
DTSTART;TZID=America/New_York:20231022T100000
DTEND;TZID=America/New_York:20231022T110000
DTSTAMP:20260423T221633
CREATED:20180124T210748Z
LAST-MODIFIED:20220911T161016Z
UID:10005555-1697968800-1697972400@emmanuelworship.org
SUMMARY:Sunday School
DESCRIPTION:Children of all ages
URL:https://emmanuelworship.org/event/sunday-school/2023-10-22/
LOCATION:Emmanuel Church\, 231 Newton Street\, Keyser\, WV\, 26505\, United States
CATEGORIES:Sunday School
ATTACH;FMTTYPE=image/jpeg:https://emmanuelworship.org/wp-content/uploads/2018/03/SundaySchl.jpg
GEO:39.4335179;-78.9869938
X-APPLE-STRUCTURED-LOCATION;VALUE=URI;X-ADDRESS=Emmanuel Church 231 Newton Street Keyser WV 26505 United States;X-APPLE-RADIUS=500;X-TITLE=231 Newton Street:geo:-78.9869938,39.4335179
END:VEVENT
BEGIN:VEVENT
DTSTART;TZID=America/New_York:20231015T100000
DTEND;TZID=America/New_York:20231015T110000
DTSTAMP:20260423T221633
CREATED:20180124T210748Z
LAST-MODIFIED:20220911T161016Z
UID:10005554-1697364000-1697367600@emmanuelworship.org
SUMMARY:Sunday School
DESCRIPTION:Children of all ages
URL:https://emmanuelworship.org/event/sunday-school/2023-10-15/
LOCATION:Emmanuel Church\, 231 Newton Street\, Keyser\, WV\, 26505\, United States
CATEGORIES:Sunday School
ATTACH;FMTTYPE=image/jpeg:https://emmanuelworship.org/wp-content/uploads/2018/03/SundaySchl.jpg
GEO:39.4335179;-78.9869938
X-APPLE-STRUCTURED-LOCATION;VALUE=URI;X-ADDRESS=Emmanuel Church 231 Newton Street Keyser WV 26505 United States;X-APPLE-RADIUS=500;X-TITLE=231 Newton Street:geo:-78.9869938,39.4335179
END:VEVENT
BEGIN:VEVENT
DTSTART;TZID=America/New_York:20231008T100000
DTEND;TZID=America/New_York:20231008T110000
DTSTAMP:20260423T221633
CREATED:20180124T210748Z
LAST-MODIFIED:20220911T161016Z
UID:10005553-1696759200-1696762800@emmanuelworship.org
SUMMARY:Sunday School
DESCRIPTION:Children of all ages
URL:https://emmanuelworship.org/event/sunday-school/2023-10-08/
LOCATION:Emmanuel Church\, 231 Newton Street\, Keyser\, WV\, 26505\, United States
CATEGORIES:Sunday School
ATTACH;FMTTYPE=image/jpeg:https://emmanuelworship.org/wp-content/uploads/2018/03/SundaySchl.jpg
GEO:39.4335179;-78.9869938
X-APPLE-STRUCTURED-LOCATION;VALUE=URI;X-ADDRESS=Emmanuel Church 231 Newton Street Keyser WV 26505 United States;X-APPLE-RADIUS=500;X-TITLE=231 Newton Street:geo:-78.9869938,39.4335179
END:VEVENT
BEGIN:VEVENT
DTSTART;TZID=America/New_York:20231001T100000
DTEND;TZID=America/New_York:20231001T110000
DTSTAMP:20260423T221633
CREATED:20180124T210748Z
LAST-MODIFIED:20220911T161016Z
UID:10005552-1696154400-1696158000@emmanuelworship.org
SUMMARY:Sunday School
DESCRIPTION:Children of all ages
URL:https://emmanuelworship.org/event/sunday-school/2023-10-01/
LOCATION:Emmanuel Church\, 231 Newton Street\, Keyser\, WV\, 26505\, United States
CATEGORIES:Sunday School
ATTACH;FMTTYPE=image/jpeg:https://emmanuelworship.org/wp-content/uploads/2018/03/SundaySchl.jpg
GEO:39.4335179;-78.9869938
X-APPLE-STRUCTURED-LOCATION;VALUE=URI;X-ADDRESS=Emmanuel Church 231 Newton Street Keyser WV 26505 United States;X-APPLE-RADIUS=500;X-TITLE=231 Newton Street:geo:-78.9869938,39.4335179
END:VEVENT
BEGIN:VEVENT
DTSTART;TZID=America/New_York:20230924T100000
DTEND;TZID=America/New_York:20230924T110000
DTSTAMP:20260423T221633
CREATED:20180124T210748Z
LAST-MODIFIED:20220911T161016Z
UID:10005551-1695549600-1695553200@emmanuelworship.org
SUMMARY:Sunday School
DESCRIPTION:Children of all ages
URL:https://emmanuelworship.org/event/sunday-school/2023-09-24/
LOCATION:Emmanuel Church\, 231 Newton Street\, Keyser\, WV\, 26505\, United States
CATEGORIES:Sunday School
ATTACH;FMTTYPE=image/jpeg:https://emmanuelworship.org/wp-content/uploads/2018/03/SundaySchl.jpg
GEO:39.4335179;-78.9869938
X-APPLE-STRUCTURED-LOCATION;VALUE=URI;X-ADDRESS=Emmanuel Church 231 Newton Street Keyser WV 26505 United States;X-APPLE-RADIUS=500;X-TITLE=231 Newton Street:geo:-78.9869938,39.4335179
END:VEVENT
BEGIN:VEVENT
DTSTART;TZID=America/New_York:20230917T100000
DTEND;TZID=America/New_York:20230917T110000
DTSTAMP:20260423T221633
CREATED:20180124T210748Z
LAST-MODIFIED:20220911T161016Z
UID:10005550-1694944800-1694948400@emmanuelworship.org
SUMMARY:Sunday School
DESCRIPTION:Children of all ages
URL:https://emmanuelworship.org/event/sunday-school/2023-09-17/
LOCATION:Emmanuel Church\, 231 Newton Street\, Keyser\, WV\, 26505\, United States
CATEGORIES:Sunday School
ATTACH;FMTTYPE=image/jpeg:https://emmanuelworship.org/wp-content/uploads/2018/03/SundaySchl.jpg
GEO:39.4335179;-78.9869938
X-APPLE-STRUCTURED-LOCATION;VALUE=URI;X-ADDRESS=Emmanuel Church 231 Newton Street Keyser WV 26505 United States;X-APPLE-RADIUS=500;X-TITLE=231 Newton Street:geo:-78.9869938,39.4335179
END:VEVENT
BEGIN:VEVENT
DTSTART;TZID=America/New_York:20230910T100000
DTEND;TZID=America/New_York:20230910T110000
DTSTAMP:20260423T221633
CREATED:20180124T210748Z
LAST-MODIFIED:20220911T161016Z
UID:10005549-1694340000-1694343600@emmanuelworship.org
SUMMARY:Sunday School
DESCRIPTION:Children of all ages
URL:https://emmanuelworship.org/event/sunday-school/2023-09-10/
LOCATION:Emmanuel Church\, 231 Newton Street\, Keyser\, WV\, 26505\, United States
CATEGORIES:Sunday School
ATTACH;FMTTYPE=image/jpeg:https://emmanuelworship.org/wp-content/uploads/2018/03/SundaySchl.jpg
GEO:39.4335179;-78.9869938
X-APPLE-STRUCTURED-LOCATION;VALUE=URI;X-ADDRESS=Emmanuel Church 231 Newton Street Keyser WV 26505 United States;X-APPLE-RADIUS=500;X-TITLE=231 Newton Street:geo:-78.9869938,39.4335179
END:VEVENT
BEGIN:VEVENT
DTSTART;TZID=America/New_York:20230903T100000
DTEND;TZID=America/New_York:20230903T110000
DTSTAMP:20260423T221633
CREATED:20180124T210748Z
LAST-MODIFIED:20220911T161016Z
UID:10005548-1693735200-1693738800@emmanuelworship.org
SUMMARY:Sunday School
DESCRIPTION:Children of all ages
URL:https://emmanuelworship.org/event/sunday-school/2023-09-03/
LOCATION:Emmanuel Church\, 231 Newton Street\, Keyser\, WV\, 26505\, United States
CATEGORIES:Sunday School
ATTACH;FMTTYPE=image/jpeg:https://emmanuelworship.org/wp-content/uploads/2018/03/SundaySchl.jpg
GEO:39.4335179;-78.9869938
X-APPLE-STRUCTURED-LOCATION;VALUE=URI;X-ADDRESS=Emmanuel Church 231 Newton Street Keyser WV 26505 United States;X-APPLE-RADIUS=500;X-TITLE=231 Newton Street:geo:-78.9869938,39.4335179
END:VEVENT
BEGIN:VEVENT
DTSTART;TZID=America/New_York:20230827T100000
DTEND;TZID=America/New_York:20230827T110000
DTSTAMP:20260423T221633
CREATED:20180124T210748Z
LAST-MODIFIED:20220911T161016Z
UID:10005547-1693130400-1693134000@emmanuelworship.org
SUMMARY:Sunday School
DESCRIPTION:Children of all ages
URL:https://emmanuelworship.org/event/sunday-school/2023-08-27/
LOCATION:Emmanuel Church\, 231 Newton Street\, Keyser\, WV\, 26505\, United States
CATEGORIES:Sunday School
ATTACH;FMTTYPE=image/jpeg:https://emmanuelworship.org/wp-content/uploads/2018/03/SundaySchl.jpg
GEO:39.4335179;-78.9869938
X-APPLE-STRUCTURED-LOCATION;VALUE=URI;X-ADDRESS=Emmanuel Church 231 Newton Street Keyser WV 26505 United States;X-APPLE-RADIUS=500;X-TITLE=231 Newton Street:geo:-78.9869938,39.4335179
END:VEVENT
BEGIN:VEVENT
DTSTART;TZID=America/New_York:20230820T100000
DTEND;TZID=America/New_York:20230820T110000
DTSTAMP:20260423T221633
CREATED:20180124T210748Z
LAST-MODIFIED:20220911T161016Z
UID:10005546-1692525600-1692529200@emmanuelworship.org
SUMMARY:Sunday School
DESCRIPTION:Children of all ages
URL:https://emmanuelworship.org/event/sunday-school/2023-08-20/
LOCATION:Emmanuel Church\, 231 Newton Street\, Keyser\, WV\, 26505\, United States
CATEGORIES:Sunday School
ATTACH;FMTTYPE=image/jpeg:https://emmanuelworship.org/wp-content/uploads/2018/03/SundaySchl.jpg
GEO:39.4335179;-78.9869938
X-APPLE-STRUCTURED-LOCATION;VALUE=URI;X-ADDRESS=Emmanuel Church 231 Newton Street Keyser WV 26505 United States;X-APPLE-RADIUS=500;X-TITLE=231 Newton Street:geo:-78.9869938,39.4335179
END:VEVENT
BEGIN:VEVENT
DTSTART;TZID=America/New_York:20230813T100000
DTEND;TZID=America/New_York:20230813T110000
DTSTAMP:20260423T221633
CREATED:20180124T210748Z
LAST-MODIFIED:20220911T161016Z
UID:10005545-1691920800-1691924400@emmanuelworship.org
SUMMARY:Sunday School
DESCRIPTION:Children of all ages
URL:https://emmanuelworship.org/event/sunday-school/2023-08-13/
LOCATION:Emmanuel Church\, 231 Newton Street\, Keyser\, WV\, 26505\, United States
CATEGORIES:Sunday School
ATTACH;FMTTYPE=image/jpeg:https://emmanuelworship.org/wp-content/uploads/2018/03/SundaySchl.jpg
GEO:39.4335179;-78.9869938
X-APPLE-STRUCTURED-LOCATION;VALUE=URI;X-ADDRESS=Emmanuel Church 231 Newton Street Keyser WV 26505 United States;X-APPLE-RADIUS=500;X-TITLE=231 Newton Street:geo:-78.9869938,39.4335179
END:VEVENT
BEGIN:VEVENT
DTSTART;TZID=America/New_York:20230806T100000
DTEND;TZID=America/New_York:20230806T110000
DTSTAMP:20260423T221633
CREATED:20180124T210748Z
LAST-MODIFIED:20220911T161016Z
UID:10005544-1691316000-1691319600@emmanuelworship.org
SUMMARY:Sunday School
DESCRIPTION:Children of all ages
URL:https://emmanuelworship.org/event/sunday-school/2023-08-06/
LOCATION:Emmanuel Church\, 231 Newton Street\, Keyser\, WV\, 26505\, United States
CATEGORIES:Sunday School
ATTACH;FMTTYPE=image/jpeg:https://emmanuelworship.org/wp-content/uploads/2018/03/SundaySchl.jpg
GEO:39.4335179;-78.9869938
X-APPLE-STRUCTURED-LOCATION;VALUE=URI;X-ADDRESS=Emmanuel Church 231 Newton Street Keyser WV 26505 United States;X-APPLE-RADIUS=500;X-TITLE=231 Newton Street:geo:-78.9869938,39.4335179
END:VEVENT
BEGIN:VEVENT
DTSTART;TZID=America/New_York:20230730T100000
DTEND;TZID=America/New_York:20230730T110000
DTSTAMP:20260423T221633
CREATED:20180124T210748Z
LAST-MODIFIED:20220911T161016Z
UID:10005543-1690711200-1690714800@emmanuelworship.org
SUMMARY:Sunday School
DESCRIPTION:Children of all ages
URL:https://emmanuelworship.org/event/sunday-school/2023-07-30/
LOCATION:Emmanuel Church\, 231 Newton Street\, Keyser\, WV\, 26505\, United States
CATEGORIES:Sunday School
ATTACH;FMTTYPE=image/jpeg:https://emmanuelworship.org/wp-content/uploads/2018/03/SundaySchl.jpg
GEO:39.4335179;-78.9869938
X-APPLE-STRUCTURED-LOCATION;VALUE=URI;X-ADDRESS=Emmanuel Church 231 Newton Street Keyser WV 26505 United States;X-APPLE-RADIUS=500;X-TITLE=231 Newton Street:geo:-78.9869938,39.4335179
END:VEVENT
BEGIN:VEVENT
DTSTART;TZID=America/New_York:20230723T100000
DTEND;TZID=America/New_York:20230723T110000
DTSTAMP:20260423T221633
CREATED:20180124T210748Z
LAST-MODIFIED:20220911T161016Z
UID:10005542-1690106400-1690110000@emmanuelworship.org
SUMMARY:Sunday School
DESCRIPTION:Children of all ages
URL:https://emmanuelworship.org/event/sunday-school/2023-07-23/
LOCATION:Emmanuel Church\, 231 Newton Street\, Keyser\, WV\, 26505\, United States
CATEGORIES:Sunday School
ATTACH;FMTTYPE=image/jpeg:https://emmanuelworship.org/wp-content/uploads/2018/03/SundaySchl.jpg
GEO:39.4335179;-78.9869938
X-APPLE-STRUCTURED-LOCATION;VALUE=URI;X-ADDRESS=Emmanuel Church 231 Newton Street Keyser WV 26505 United States;X-APPLE-RADIUS=500;X-TITLE=231 Newton Street:geo:-78.9869938,39.4335179
END:VEVENT
END:VCALENDAR